{"text_format":"1","workbook":"xlsx","n_sheets":3,"sheets":["Instructions","Input","Debt Liquidation Sched"],"not_rendered":{"charts":0,"images":0,"macros":1,"external_links":0,"defined_names":2,"comments":0,"pivot_tables":0},"unopened":[],"bounds":{"document_bytes":16777216,"sheet_cells":100000,"rows_first":2000,"rows_last":500,"rows_between":2000,"halvings":0,"cell_chars":16384,"cell_head_chars":4096},"cells_cut":0,"cells_raw":0,"read":"whole","date_system":"1900"}

{"sheet":"Instructions","index":0,"n_rows":7,"n_cols":4,"rows_kept":7,"cut":false,"hidden":false,"merged":[[13,1,14,7],[4,1,4,7],[5,1,5,7],[2,1,2,7],[3,1,3,7]]}
[null,"Instructions:"]
[]
[null,"1) On the \"Input\" tab (below), fill out the blue fields: the debt name, the balance, the interest rate and the minimum payment."]
[null,"2) Now click the \"Calculate\" button."]
[null,"3) At the bottom of the \"Input\" tab screen you'll see the \"Total Paid Each Month\" towards debt and \"Number of Months Until Paid\" it will take to be totally debt free--after paying both principal & interest."]
[null,"4) The \"Debt Liquidation Format\" tab will give you a more detailed breakdown of how each debt is addressed per month."]
[null,null,null,"**This worksheet uses the \"debt snowball\" approach"]

{"sheet":"Input","index":1,"n_rows":28,"n_cols":7,"rows_kept":28,"cut":false,"hidden":false,"merged":[]}
[]
[null,"Name"]
[null,"Date"]
[]
[]
[]
[]
[null,"Debt Name","Balance","Interest Rate","Minimum Payment","Time to pay off (months)","Interest Paid"]
[1,null,null,null,null,{"$f":"IFERROR(NPER(D9/12,-E9,C9,,0),\"\")","v":""},{"$f":"IF(B9=0,0,HLOOKUP(B9,'Debt Liquidation Sched'!$A$4:$BQ$372,369,FALSE))","v":0}]
[2,null,null,null,null,{"$f":"IFERROR(NPER(D10/12,-E10,C10,,0),\"\")","v":""},{"$f":"IF(B10=0,0,HLOOKUP(B10,'Debt Liquidation Sched'!$A$4:$BQ$372,369,FALSE))","v":0}]
[3,null,null,null,null,{"$f":"IFERROR(NPER(D11/12,-E11,C11,,0),\"\")","v":""},{"$f":"IF(B11=0,0,HLOOKUP(B11,'Debt Liquidation Sched'!$A$4:$BQ$372,369,FALSE))","v":0}]
[4,null,null,null,null,{"$f":"IFERROR(NPER(D12/12,-E12,C12,,0),\"\")","v":""},{"$f":"IF(B12=0,0,HLOOKUP(B12,'Debt Liquidation Sched'!$A$4:$BQ$372,369,FALSE))","v":0}]
[5,null,null,null,null,{"$f":"IFERROR(NPER(D13/12,-E13,C13,,0),\"\")","v":""},{"$f":"IF(B13=0,0,HLOOKUP(B13,'Debt Liquidation Sched'!$A$4:$BQ$372,369,FALSE))","v":0}]
[6,null,null,null,null,{"$f":"IFERROR(NPER(D14/12,-E14,C14,,0),\"\")","v":""},{"$f":"IF(B14=0,0,HLOOKUP(B14,'Debt Liquidation Sched'!$A$4:$BQ$372,369,FALSE))","v":0}]
[7,null,null,null,null,{"$f":"IFERROR(NPER(D15/12,-E15,C15,,0),\"\")","v":""},{"$f":"IF(B15=0,0,HLOOKUP(B15,'Debt Liquidation Sched'!$A$4:$BQ$372,369,FALSE))","v":0}]
[8,null,null,null,null,{"$f":"IFERROR(NPER(D16/12,-E16,C16,,0),\"\")","v":""},{"$f":"IF(B16=0,0,HLOOKUP(B16,'Debt Liquidation Sched'!$A$4:$BQ$372,369,FALSE))","v":0}]
[9,null,null,null,null,{"$f":"IFERROR(NPER(D17/12,-E17,C17,,0),\"\")","v":""},{"$f":"IF(B17=0,0,HLOOKUP(B17,'Debt Liquidation Sched'!$A$4:$BQ$372,369,FALSE))","v":0}]
[10,null,null,null,null,null,{"$f":"IF(B18=0,0,HLOOKUP(B18,'Debt Liquidation Sched'!$A$4:$BQ$372,369,FALSE))","v":0}]
[11,null,null,null,null,null,{"$f":"IF(B19=0,0,HLOOKUP(B19,'Debt Liquidation Sched'!$A$4:$BQ$372,369,FALSE))","v":0}]
[12,null,null,null,null,null,{"$f":"IF(B20=0,0,HLOOKUP(B20,'Debt Liquidation Sched'!$A$4:$BQ$372,369,FALSE))","v":0}]
[]
[null,"Total",{"$f":"SUM(C9:C20)","v":0},{"$f":"AVERAGE(D9:D20)","v":{"$error":"#DIV/0!"}},{"$f":"SUM(E9:E20)","v":0}]
[null,"Total Interest Paid",{"$f":"SUM(G9:G20)","v":0}]
[null,"Total Paid",{"$f":"SUM(C22:C23)","v":0}]
[]
[]
[null,"Total Paid Each Month",{"$f":"E22","v":0}]
[null,"Number of Months Until Paid",{"$f":"MAX(MATCH(0,'Debt Liquidation Sched'!E11:E370,0),MATCH(0,'Debt Liquidation Sched'!K11:K370,0),MATCH(0,'Debt Liquidation Sched'!Q11:Q370,0),MATCH(0,'Debt Liquidation Sched'!W11:W370,0),MATCH(0,'Debt Liquidation Sched'!AC11:AC370,0),MATCH(0,'Debt Liquidation Sched'!AI11:AI370,0),MATCH(0,'Debt Liquidation Sched'!AO11:AO370,0),MATCH(0,'Debt Liquidation Sched'!AU11:AU370,0),MATCH(0,'Debt Liquidation Sched'!BA11:BA370,0),MATCH(0,'Debt Liquidation Sched'!BG11:BG370,0),MATCH(0,'Debt Liquidation Sched'!BM11:BM370,0),MATCH(0,'Debt Liquidation Sched'!BS11:BS370,0))","v":1},{"$f":"CONCATENATE(TRUNC(C28/12), \" Years, \",ROUNDUP(C28-TRUNC(C28/12)*12,0),\" Months\")","v":"0 Years, 1 Months"}]

{"sheet":"Debt Liquidation Sched","index":2,"n_rows":372,"n_cols":75,"rows_kept":372,"cut":false,"hidden":false,"merged":[]}
["DEBT LIQUIDATION SCHEDULE"]
[null,null,null,null,null,null,null,null,null,null,null,null,null,null,null,null,null,null,null,null,null,null,null,null,null,null,null,null,null,null,null,null,null,null,null,null,null,null,null,null,null,null,null,null,null,null,null,null,null,null,null,null,null,null,null,null,null,null,null,null,null,null,null,null,null,null,null,null,null,null,null,null,"Key:"]
[1,null,null,null,null,null,2,null,null,null,null,null,3,null,null,null,null,null,4,null,null,null,null,null,5,null,null,null,null,null,6,null,null,null,null,null,7,null,null,null,null,null,8,null,null,null,null,null,9,null,null,null,null,null,10,null,null,null,null,null,11,null,null,null,null,null,12]
["ACCOUNT NAME:",null,{"$f":"IF(Input!B9=0,\"\",(Input!B9))","v":""},null,null,null,"ACCOUNT NAME:",null,{"$f":"IF(Input!B10=0,\"\",(Input!B10))","v":""},null,null,null,"ACCOUNT NAME:",null,{"$f":"IF(Input!B11=0,\"\",(Input!B11))","v":""},null,null,null,"ACCOUNT NAME:",null,{"$f":"IF(Input!B12=0,\"\",(Input!B12))","v":""},null,null,null,"ACCOUNT NAME:",null,{"$f":"IF(Input!B13=0,\"\",(Input!B13))","v":""},null,null,null,"ACCOUNT NAME:",null,{"$f":"IF(Input!B14=0,\"\",(Input!B14))","v":""},null,null,null,"ACCOUNT NAME:",null,{"$f":"IF(Input!B15=0,\"\",(Input!B15))","v":""},null,null,null,"ACCOUNT NAME:",null,{"$f":"IF(Input!B16=0,\"\",(Input!B16))","v":""},null,null,null,"ACCOUNT NAME:",null,{"$f":"IF(Input!B17=0,\"\",(Input!B17))","v":""},null,null,null,"ACCOUNT NAME:",null,{"$f":"IF(Input!B18=0,\"\",(Input!B18))","v":""},null,null,null,"ACCOUNT NAME:",null,{"$f":"IF(Input!B19=0,\"\",(Input!B19))","v":""},null,null,null,"ACCOUNT NAME:",null,{"$f":"IF(Input!B20=0,\"\",(Input!B20))","v":""},null,null,null,null,null,"Name & Date"]
["BALANCE:",null,null,{"$f":"Input!C9","v":0},null,null,"BALANCE:",null,null,{"$f":"Input!C10","v":0},null,null,"BALANCE:",null,null,{"$f":"Input!C11","v":0},null,null,"BALANCE:",null,null,{"$f":"Input!C12","v":0},null,null,"BALANCE:",null,null,{"$f":"Input!C13","v":0},null,null,"BALANCE:",null,null,{"$f":"Input!C14","v":0},null,null,"BALANCE:",null,null,{"$f":"Input!C15","v":0},null,null,"BALANCE:",null,null,{"$f":"Input!C16","v":0},null,null,"BALANCE:",null,null,{"$f":"Input!C17","v":0},null,null,"BALANCE:",null,null,{"$f":"Input!C18","v":0},null,null,"BALANCE:",null,null,{"$f":"Input!C19","v":0},null,null,"BALANCE:",null,null,{"$f":"Input!C20","v":0}]
["INTEREST:",null,null,{"$f":"E6/12","v":0},{"$f":"Input!D9","v":0},null,"INTEREST:",null,null,{"$f":"K6/12","v":0},{"$f":"Input!D10","v":0},null,"INTEREST:",null,null,{"$f":"Q6/12","v":0},{"$f":"Input!D11","v":0},null,"INTEREST:",null,null,{"$f":"W6/12","v":0},{"$f":"Input!D12","v":0},null,"INTEREST:",null,null,{"$f":"AC6/12","v":0},{"$f":"Input!D13","v":0},null,"INTEREST:",null,null,{"$f":"AI6/12","v":0},{"$f":"Input!D14","v":0},null,"INTEREST:",null,null,{"$f":"AO6/12","v":0},{"$f":"Input!D15","v":0},null,"INTEREST:",null,null,{"$f":"AU6/12","v":0},{"$f":"Input!D16","v":0},null,"INTEREST:",null,null,{"$f":"BA6/12","v":0},{"$f":"Input!D17","v":0},null,"INTEREST:",null,null,{"$f":"BG6/12","v":0},{"$f":"Input!D18","v":0},null,"INTEREST:",null,null,{"$f":"BM6/12","v":0},{"$f":"Input!D19","v":0},null,"INTEREST:",null,null,{"$f":"BS6/12","v":0},{"$f":"Input!D20","v":0},null,null,null,"Balance of credit card"]
["SCHEDULED PMT:",null,{"$f":"D7/D5","v":{"$error":"#DIV/0!"}},{"$f":"Input!E9","v":0},null,null,"SCHEDULED PMT:",null,{"$f":"J7/J5","v":{"$error":"#DIV/0!"}},{"$f":"Input!E10","v":0},null,null,"SCHEDULED PMT:",null,{"$f":"P7/P5","v":{"$error":"#DIV/0!"}},{"$f":"Input!E11","v":0},null,null,"SCHEDULED PMT:",null,{"$f":"V7/V5","v":{"$error":"#DIV/0!"}},{"$f":"Input!E12","v":0},null,null,"SCHEDULED PMT:",null,{"$f":"AB7/AB5","v":{"$error":"#DIV/0!"}},{"$f":"Input!E13","v":0},null,null,"SCHEDULED PMT:",null,{"$f":"AH7/AH5","v":{"$error":"#DIV/0!"}},{"$f":"Input!E14","v":0},null,null,"SCHEDULED PMT:",null,{"$f":"AN7/AN5","v":{"$error":"#DIV/0!"}},{"$f":"Input!E15","v":0},null,null,"SCHEDULED PMT:",null,{"$f":"AT7/AT5","v":{"$error":"#DIV/0!"}},{"$f":"Input!E16","v":0},null,null,"SCHEDULED PMT:",null,{"$f":"AZ7/AZ5","v":{"$error":"#DIV/0!"}},{"$f":"Input!E17","v":0},null,null,"SCHEDULED PMT:",null,{"$f":"BF7/BF5","v":{"$error":"#DIV/0!"}},{"$f":"Input!E18","v":0},null,null,"SCHEDULED PMT:",null,{"$f":"BL7/BL5","v":{"$error":"#DIV/0!"}},{"$f":"Input!E19","v":0},null,null,"SCHEDULED PMT:",null,{"$f":"BR7/BR5","v":{"$error":"#DIV/0!"}},{"$f":"Input!E20","v":0}]
[null,null,null,null,"END",null,null,null,null,null,"END",null,null,null,null,null,"END",null,null,null,null,null,"END",null,null,null,null,null,"END",null,null,null,null,null,"END",null,null,null,null,null,"END",null,null,null,null,null,"END",null,null,null,null,null,"END",null,null,null,null,null,"END",null,null,null,null,null,"END",null,null,null,null,null,"END",null,null,null,"Interest rate - APR%"]
["MO","BAL","INT","PMT","BAL",null,"MO","BAL","INT","PMT","BAL",null,"MO","BAL","INT","PMT","BAL",null,"MO","BAL","INT","PMT","BAL",null,"MO","BAL","INT","PMT","BAL",null,"MO","BAL","INT","PMT","BAL",null,"MO","BAL","INT","PMT","BAL",null,"MO","BAL","INT","PMT","BAL",null,"MO","BAL","INT","PMT","BAL",null,"MO","BAL","INT","PMT","BAL",null,"MO","BAL","INT","PMT","BAL",null,"MO","BAL","INT","PMT","BAL"]
[null,null,null,null,null,null,null,null,null,null,null,null,null,null,null,null,null,null,null,null,null,null,null,null,null,null,null,null,null,null,null,null,null,null,null,null,null,null,null,null,null,null,null,null,null,null,null,null,null,null,null,null,null,null,null,null,null,null,null,null,null,null,null,null,null,null,null,null,null,null,null,null,null,null,"Scheduled payment"]
[1,{"$f":"D5","v":0},{"$f":"B11*$D$6","v":0},{"$f":"$D$7","v":0},{"$f":"IF((B11+C11-D11)>0,B11+C11-D11,0)","v":0},null,1,{"$f":"J5","v":0},{"$f":"H11*$J$6","v":0},{"$f":"$J$7","v":0},{"$f":"IF((H11+I11-J11)>0,H11+I11-J11,0)","v":0},null,1,{"$f":"P5","v":0},{"$f":"N11*$P$6","v":0},{"$f":"$P$7","v":0},{"$f":"IF((N11+O11-P11)>0,N11+O11-P11,0)","v":0},null,1,{"$f":"V5","v":0},{"$f":"T11*$V$6","v":0},{"$f":"$V$7","v":0},{"$f":"IF((T11+U11-V11)>0,T11+U11-V11,0)","v":0},null,1,{"$f":"AB5","v":0},{"$f":"Z11*$AB$6","v":0},{"$f":"$AB$7","v":0},{"$f":"IF((Z11+AA11-AB11)>0,Z11+AA11-AB11,0)","v":0},null,1,{"$f":"AH5","v":0},{"$f":"AF11*$AH$6","v":0},{"$f":"$AH$7","v":0},{"$f":"IF((AF11+AG11-AH11)>0,AF11+AG11-AH11,0)","v":0},null,1,{"$f":"AN5","v":0},{"$f":"AL11*$AN$6","v":0},{"$f":"$AN$7","v":0},{"$f":"IF((AL11+AM11-AN11)>0,AL11+AM11-AN11,0)","v":0},null,1,{"$f":"AT5","v":0},{"$f":"AR11*$AT$6","v":0},{"$f":"$AT$7","v":0},{"$f":"IF((AR11+AS11-AT11)>0,AR11+AS11-AT11,0)","v":0},null,1,{"$f":"AZ5","v":0},{"$f":"AX11*$AZ$6","v":0},{"$f":"$AZ$7","v":0},{"$f":"IF((AX11+AY11-AZ11)>0,AX11+AY11-AZ11,0)","v":0},null,1,{"$f":"BF5","v":0},{"$f":"BD11*$BF$6","v":0},{"$f":"$BF$7","v":0},{"$f":"IF((BD11+BE11-BF11)>0,BD11+BE11-BF11,0)","v":0},null,1,{"$f":"BL5","v":0},{"$f":"BJ11*$BL$6","v":0},{"$f":"$BL$7","v":0},{"$f":"IF((BJ11+BK11-BL11)>0,BJ11+BK11-BL11,0)","v":0},null,1,{"$f":"BR5","v":0},{"$f":"BP11*$BR$6","v":0},{"$f":"$BR$7","v":0},{"$f":"IF((BP11+BQ11-BR11)>0,BP11+BQ11-BR11,0)","v":0}]
[2,{"$f":"E11","v":0},{"$f":"B12*$D$6","v":0},{"$f":"IF((E11)>0,$D$7,0)","v":0},{"$f":"IF((B12+C12-D12)>0,B12+C12-D12,0)","v":0},null,2,{"$f":"K11","v":0},{"$f":"H12*$J$6","v":0},{"$f":"IF((K11)>0,IF(E11=0,$J$7+$D$7,$J$7),0)","v":0},{"$f":"IF((H12+I12-J12)>0,H12+I12-J12,0)","v":0},null,2,{"$f":"Q11","v":0},{"$f":"N12*$P$6","v":0},{"$f":"IF((Q11)>0,IF(K11=0,$P$7+$J$7+$D$7,$P$7),0)","v":0},{"$f":"IF((N12+O12-P12)>0,N12+O12-P12,0)","v":0},null,2,{"$f":"W11","v":0},{"$f":"T12*$V$6","v":0},{"$f":"IF((W11)>0,IF(Q11=0,$P$7+$J$7+$D$7+$V$7,$V$7),0)","v":0},{"$f":"IF((T12+U12-V12)>0,T12+U12-V12,0)","v":0},null,2,{"$f":"AC11","v":0},{"$f":"Z12*$AB$6","v":0},{"$f":"IF((AC11)>0,IF(W11=0,$AB$7+$V$7+$P$7+$J$7+$D$7,$AB$7),0)","v":0},{"$f":"IF((Z12+AA12-AB12)>0,Z12+AA12-AB12,0)","v":0},null,2,{"$f":"AI11","v":0},{"$f":"AF12*$AH$6","v":0},{"$f":"IF((AI11)>0,IF(AC11=0,$AH$7+$AB$7+$V$7+$P$7+$J$7+$D$7,$AH$7),0)","v":0},{"$f":"IF((AF12+AG12-AH12)>0,AF12+AG12-AH12,0)","v":0},null,2,{"$f":"AO11","v":0},{"$f":"AL12*$AN$6","v":0},{"$f":"IF((AO11)>0,IF(AI11=0,$AN$7+$AH$7+$AB$7+$V$7+$P$7+$J$7+$D$7,$AN$7),0)","v":0},{"$f":"IF((AL12+AM12-AN12)>0,AL12+AM12-AN12,0)","v":0},null,2,{"$f":"AU11","v":0},{"$f":"AR12*$AT$6","v":0},{"$f":"IF((AU11)>0,IF(AO11=0,$AT$7+$AN$7+$AH$7+$AB$7+$V$7+$P$7+$J$7+$D$7,$AT$7),0)","v":0},{"$f":"IF((AR12+AS12-AT12)>0,AR12+AS12-AT12,0)","v":0},null,2,{"$f":"BA11","v":0},{"$f":"AX12*$AZ$6","v":0},{"$f":"IF((BA11)>0,IF(AU11=0,$AZ$7+$AT$7+$AN$7+$AH$7+$AB$7+$V$7+$P$7+$J$7+$D$7,$AZ$7),0)","v":0},{"$f":"IF((AX12+AY12-AZ12)>0,AX12+AY12-AZ12,0)","v":0},null,2,{"$f":"BG11","v":0},{"$f":"BD12*$BF$6","v":0},{"$f":"IF((BG11)>0,IF(BA11=0,$BF$7+$AZ$7+$AT$7+$AN$7+$AH$7+$AB$7+$V$7+$P$7+$J$7+$D$7,$BF$7),0)","v":0},{"$f":"IF((BD12+BE12-BF12)>0,BD12+BE12-BF12,0)","v":0},null,2,{"$f":"BM11","v":0},{"$f":"BJ12*$BL$6","v":0},{"$f":"IF((BM11)>0,IF(BG11=0,$BL$7+$BF$7+$AZ$7+$AT$7+$AN$7+$AH$7+$AB$7+$V$7+$P$7+$J$7+$D$7,$BL$7),0)","v":0},{"$f":"IF((BJ12+BK12-BL12)>0,BJ12+BK12-BL12,0)","v":0},null,2,{"$f":"BS11","v":0},{"$f":"BP12*$BR$6","v":0},{"$f":"IF((BS11)>0,IF(BM11=0,$BR$7+$BL$7+$BF$7+$AZ$7+$AT$7+$AN$7+$AH$7+$AB$7+$V$7+$P$7+$J$7+$D$7,$BR$7),0)","v":0},{"$f":"IF((BP12+BQ12-BR12)>0,BP12+BQ12-BR12,0)","v":0}]
[3,{"$f":"E12","v":0},{"$f":"B13*$D$6","v":0},{"$f":"IF((E12)>0,$D$7,0)","v":0},{"$f":"IF((B13+C13-D13)>0,B13+C13-D13,0)","v":0},null,3,{"$f":"K12","v":0},{"$f":"H13*$J$6","v":0},{"$f":"IF((K12)>0,IF(E12=0,$J$7+$D$7,$J$7),0)","v":0},0,null,3,{"$f":"Q12","v":0},{"$f":"N13*$P$6","v":0},{"$f":"IF((Q12)>0,IF(K12=0,$P$7+$J$7+$D$7,$P$7),0)","v":0},0,null,3,{"$f":"W12","v":0},0,{"$f":"IF((W12)>0,IF(Q12=0,$P$7+$J$7+$D$7+$V$7,$V$7),0)","v":0},0,null,3,{"$f":"AC12","v":0},0,{"$f":"IF((AC12)>0,IF(W12=0,$AB$7+$V$7+$P$7+$J$7+$D$7,$AB$7),0)","v":0},0,null,3,{"$f":"AI12","v":0},0,{"$f":"IF((AI12)>0,IF(AC12=0,$AH$7+$AB$7+$V$7+$P$7+$J$7+$D$7,$AH$7),0)","v":0},0,null,3,{"$f":"AO12","v":0},0,{"$f":"IF((AO12)>0,IF(AI12=0,$AN$7+$AH$7+$AB$7+$V$7+$P$7+$J$7+$D$7,$AN$7),0)","v":0},{"$f":"IF((AL13+AM13-AN13)>0,AL13+AM13-AN13,0)","v":0},null,3,{"$f":"AU12","v":0},0,{"$f":"IF((AU12)>0,IF(AO12=0,$AT$7+$AN$7+$AH$7+$AB$7+$V$7+$P$7+$J$7+$D$7,$AT$7),0)","v":0},0,null,3,{"$f":"BA12","v":0},0,{"$f":"IF((BA12)>0,IF(AU12=0,$AZ$7+$AT$7+$AN$7+$AH$7+$AB$7+$V$7+$P$7+$J$7+$D$7,$AZ$7),0)","v":0},0,null,3,{"$f":"BG12","v":0},0,{"$f":"IF((BG12)>0,IF(BA12=0,$BF$7+$AZ$7+$AT$7+$AN$7+$AH$7+$AB$7+$V$7+$P$7+$J$7+$D$7,$BF$7),0)","v":0},0,null,3,{"$f":"BM12","v":0},0,{"$f":"IF((BM12)>0,IF(BG12=0,$BL$7+$BF$7+$AZ$7+$AT$7+$AN$7+$AH$7+$AB$7+$V$7+$P$7+$J$7+$D$7,$BL$7),0)","v":0},0,null,3,{"$f":"BS12","v":0},0,{"$f":"IF((BS12)>0,IF(BM12=0,$BR$7+$BL$7+$BF$7+$AZ$7+$AT$7+$AN$7+$AH$7+$AB$7+$V$7+$P$7+$J$7+$D$7,$BR$7),0)","v":0},0]
[4,0,0,0,0,null,4,0,0,0,0,null,4,0,0,0,0,null,4,0,0,0,0,null,4,0,0,0,0,null,4,0,0,0,0,null,4,0,0,0,0,null,4,0,0,0,0,null,4,0,0,0,0,null,4,0,0,0,0,null,4,0,0,0,0,null,4,0,0,0,0]
[5,0,0,0,0,null,5,0,0,0,0,null,5,0,0,0,0,null,5,0,0,0,0,null,5,0,0,0,0,null,5,0,0,0,0,null,5,0,0,0,0,null,5,0,0,0,0,null,5,0,0,0,0,null,5,0,0,0,0,null,5,0,0,0,0,null,5,0,0,0,0]
[6,0,0,0,0,null,6,0,0,0,0,null,6,0,0,0,0,null,6,0,0,0,0,null,6,0,0,0,0,null,6,0,0,0,0,null,6,0,0,0,0,null,6,0,0,0,0,null,6,0,0,0,0,null,6,0,0,{"$f":"IF((BG15)>0,IF(BA15=0,$BF$7+$AZ$7+$AT$7+$AN$7+$AH$7+$AB$7+$V$7+$P$7+$J$7+$D$7,$BF$7),0)","v":0},0,null,6,0,0,0,0,null,6,0,0,0,0]
[7,0,0,0,0,null,7,0,0,0,0,null,7,0,0,0,0,null,7,0,0,0,0,null,7,0,0,0,0,null,7,0,0,0,0,null,7,0,0,0,0,null,7,0,0,0,0,null,7,0,0,0,0,null,7,0,0,0,0,null,7,0,0,0,0,null,7,0,0,0,0]
[8,{"$f":"E17","v":0},{"$f":"B18*$D$6","v":0},0,0,null,8,0,0,0,0,null,8,0,0,0,0,null,8,0,0,0,0,null,8,0,0,0,0,null,8,0,0,0,0,null,8,0,0,0,0,null,8,0,0,0,0,null,8,0,0,0,0,null,8,0,0,0,0,null,8,0,0,0,0,null,8,0,0,0,0]
[9,0,0,0,0,null,9,0,0,0,0,null,9,0,0,0,0,null,9,0,0,0,0,null,9,0,0,0,0,null,9,0,0,0,0,null,9,0,0,0,0,null,9,0,0,0,0,null,9,0,0,0,0,null,9,0,0,0,0,null,9,0,0,0,0,null,9,0,0,0,0]
[10,0,0,0,0,null,10,0,0,0,0,null,10,0,0,0,0,null,10,0,0,0,0,null,10,0,0,0,0,null,10,0,0,0,0,null,10,0,0,0,0,null,10,0,0,0,0,null,10,0,0,0,0,null,10,0,0,0,0,null,10,0,0,0,0,null,10,0,0,0,0]
[11,0,0,0,0,null,11,0,0,0,0,null,11,0,0,0,0,null,11,0,0,0,0,null,11,0,0,0,0,null,11,0,0,0,0,null,11,0,0,0,0,null,11,0,0,0,0,null,11,0,0,0,0,null,11,0,0,0,0,null,11,0,0,{"$f":"IF((BM20)>0,IF(BG20=0,$BL$7+$BF$7+$AZ$7+$AT$7+$AN$7+$AH$7+$AB$7+$V$7+$P$7+$J$7+$D$7,$BL$7),0)","v":0},0,null,11,0,0,0,0]
[12,0,0,0,0,null,12,0,0,0,0,null,12,0,0,0,0,null,12,0,0,0,0,null,12,0,0,0,0,null,12,0,0,0,0,null,12,0,0,0,0,null,12,0,0,0,0,null,12,0,0,0,0,null,12,0,0,0,0,null,12,0,0,0,0,null,12,0,0,0,0]
[13,0,0,0,0,null,13,0,0,0,0,null,13,0,0,0,0,null,13,0,0,0,0,null,13,0,0,0,0,null,13,0,0,0,0,null,13,0,0,0,0,null,13,0,0,0,0,null,13,0,0,0,0,null,13,0,0,0,0,null,13,0,0,0,0,null,13,0,0,0,0]
[14,0,0,0,0,null,14,0,0,0,0,null,14,0,0,0,0,null,14,0,0,0,0,null,14,0,0,0,0,null,14,0,0,0,0,null,14,0,0,0,0,null,14,0,0,0,0,null,14,0,0,0,0,null,14,0,0,0,0,null,14,0,0,0,0,null,14,0,0,0,0]
[15,0,0,0,0,null,15,0,0,0,0,null,15,0,0,0,0,null,15,0,0,0,0,null,15,0,0,0,0,null,15,0,0,0,0,null,15,0,0,0,{"$f":"IF((AL25+AM25-AN25)>0,AL25+AM25-AN25,0)","v":0},null,15,0,0,0,0,null,15,0,0,0,0,null,15,0,0,0,0,null,15,0,0,0,0,null,15,0,0,0,0]
[16,0,0,0,0,null,16,0,0,0,0,null,16,0,0,0,0,null,16,0,0,0,0,null,16,0,0,0,0,null,16,0,0,0,0,null,16,0,0,0,0,null,16,0,0,0,0,null,16,0,0,0,0,null,16,0,0,0,0,null,16,0,0,0,0,null,16,0,0,0,0]
[17,0,0,0,0,null,17,0,0,0,0,null,17,0,0,0,0,null,17,0,0,0,0,null,17,0,0,0,0,null,17,0,0,0,0,null,17,0,0,0,0,null,17,0,0,0,0,null,17,0,0,0,0,null,17,0,0,0,0,null,17,0,0,0,0,null,17,0,0,0,0]
[18,0,0,0,0,null,18,0,0,0,0,null,18,0,0,0,0,null,18,0,0,0,0,null,18,0,0,0,0,null,18,0,0,0,0,null,18,0,0,0,0,null,18,0,0,0,0,null,18,0,0,0,0,null,18,0,0,0,0,null,18,0,0,0,0,null,18,0,0,0,0]
[19,0,0,0,0,null,19,0,0,0,0,null,19,0,0,0,0,null,19,0,0,0,{"$f":"IF((T29+U29-V29)>0,T29+U29-V29,0)","v":0},null,19,0,0,0,0,null,19,0,0,0,0,null,19,0,0,0,0,null,19,0,0,0,0,null,19,0,0,{"$f":"IF((BA28)>0,IF(AU28=0,$AZ$7+$AT$7+$AN$7+$AH$7+$AB$7+$V$7+$P$7+$J$7+$D$7,$AZ$7),0)","v":0},0,null,19,0,0,0,0,null,19,0,0,0,0,null,19,0,0,0,0]
[20,0,0,0,0,null,20,0,0,0,0,null,20,0,0,0,0,null,20,0,0,0,0,null,20,0,0,0,0,null,20,0,0,0,0,null,20,0,0,0,0,null,20,0,0,0,0,null,20,0,0,0,0,null,20,0,0,0,0,null,20,0,0,0,0,null,20,0,0,0,0]
[21,0,0,0,0,null,21,0,0,0,0,null,21,0,0,0,0,null,21,0,0,0,0,null,21,0,0,0,0,null,21,0,0,0,0,null,21,0,0,0,0,null,21,0,0,0,0,null,21,0,0,0,0,null,21,0,0,0,0,null,21,0,0,0,0,null,21,0,0,0,0]
[22,0,0,0,0,null,22,0,0,0,0,null,22,0,0,0,0,null,22,0,0,0,0,null,22,0,0,0,0,null,22,0,0,0,0,null,22,0,0,0,0,null,22,0,0,0,0,null,22,0,0,0,0,null,22,0,0,0,0,null,22,0,0,0,0,null,22,0,0,0,0]
[23,0,0,0,0,null,23,0,0,0,0,null,23,0,0,0,0,null,23,0,0,0,0,null,23,0,0,0,0,null,23,0,0,0,0,null,23,0,0,0,0,null,23,0,0,0,0,null,23,0,0,0,0,null,23,0,0,0,0,null,23,0,0,0,0,null,23,0,0,0,0]
[24,0,0,0,0,null,24,0,0,0,0,null,24,0,0,0,0,null,24,0,0,0,0,null,24,0,0,0,0,null,24,0,0,0,0,null,24,0,0,0,0,null,24,0,0,0,0,null,24,0,0,0,0,null,24,0,0,0,0,null,24,0,0,0,0,null,24,0,0,0,0]
[25,0,0,0,0,null,25,0,0,0,0,null,25,0,0,0,0,null,25,0,0,0,0,null,25,0,0,0,0,null,25,0,0,0,0,null,25,0,0,0,0,null,25,0,0,0,0,null,25,0,0,0,0,null,25,0,0,0,0,null,25,0,0,0,0,null,25,0,0,0,0]
[26,0,0,0,0,null,26,0,0,0,0,null,26,0,0,0,0,null,26,0,0,0,0,null,26,0,0,0,0,null,26,0,0,0,0,null,26,0,0,0,0,null,26,0,0,0,0,null,26,0,0,0,0,null,26,0,0,0,0,null,26,0,0,0,0,null,26,0,0,0,0]
[27,0,0,0,0,null,27,0,0,0,0,null,27,0,0,0,0,null,27,0,0,0,0,null,27,0,0,0,0,null,27,0,0,0,0,null,27,0,0,0,0,null,27,0,0,0,0,null,27,0,0,0,0,null,27,0,0,0,0,null,27,0,0,0,0,null,27,0,0,0,0]
[28,0,0,0,0,null,28,0,0,0,0,null,28,0,0,0,0,null,28,0,0,0,0,null,28,0,0,0,0,null,28,0,0,0,0,null,28,0,0,0,0,null,28,0,0,0,0,null,28,0,0,0,0,null,28,0,0,0,0,null,28,0,0,0,0,null,28,0,0,0,0]
[29,0,0,0,0,null,29,0,0,0,{"$f":"IF((H39+I39-J39)>0,H39+I39-J39,0)","v":0},null,29,0,0,0,0,null,29,0,0,0,0,null,29,0,0,0,0,null,29,0,0,0,0,null,29,0,0,0,0,null,29,0,0,0,0,null,29,0,0,0,0,null,29,0,0,0,0,null,29,0,0,0,0,null,29,0,0,0,0]
[30,0,0,{"$f":"IF((E39)>0,$D$7,0)","v":0},0,null,30,0,0,0,0,null,30,0,0,0,0,null,30,0,0,0,0,null,30,0,0,0,0,null,30,0,0,0,0,null,30,0,0,0,0,null,30,0,0,0,0,null,30,0,0,0,0,null,30,0,0,0,0,null,30,0,0,0,0,null,30,0,0,0,0]
[31,0,0,0,0,null,31,0,0,0,0,null,31,0,0,0,0,null,31,0,0,0,0,null,31,0,0,0,0,null,31,0,0,0,0,null,31,0,0,0,0,null,31,0,0,0,0,null,31,0,0,0,0,null,31,0,0,0,0,null,31,0,0,0,0,null,31,0,0,0,0]
[32,0,0,0,0,null,32,0,0,0,0,null,32,0,0,0,0,null,32,0,0,0,0,null,32,0,0,0,0,null,32,0,0,0,0,null,32,0,0,0,0,null,32,0,0,0,0,null,32,0,0,0,0,null,32,0,0,0,0,null,32,0,0,0,0,null,32,0,0,0,0]
[33,0,0,0,0,null,33,0,0,0,0,null,33,0,0,0,0,null,33,0,0,0,0,null,33,0,0,0,0,null,33,0,0,0,0,null,33,0,0,0,0,null,33,0,0,0,0,null,33,0,0,0,0,null,33,0,0,0,0,null,33,0,0,0,0,null,33,0,0,0,0]
[34,0,0,0,0,null,34,0,0,0,0,null,34,0,0,0,0,null,34,0,0,0,0,null,34,0,0,0,0,null,34,0,0,0,0,null,34,0,0,0,0,null,34,0,0,0,0,null,34,0,0,0,0,null,34,0,0,0,0,null,34,0,0,0,0,null,34,0,0,0,0]
[35,0,0,0,0,null,35,0,0,0,0,null,35,0,0,0,0,null,35,0,0,0,0,null,35,0,0,0,0,null,35,0,0,0,0,null,35,0,0,0,0,null,35,0,0,0,0,null,35,0,0,0,0,null,35,0,0,0,0,null,35,0,0,0,0,null,35,0,0,0,0]
[36,0,0,0,0,null,36,0,0,0,0,null,36,0,0,0,0,null,36,0,0,0,0,null,36,0,0,0,0,null,36,0,0,0,0,null,36,0,0,0,0,null,36,0,0,0,0,null,36,0,0,0,0,null,36,0,0,0,0,null,36,0,0,0,0,null,36,0,0,0,0]
[37,0,0,0,0,null,37,0,0,0,0,null,37,0,0,0,0,null,37,0,0,0,0,null,37,0,0,0,0,null,37,0,0,0,0,null,37,0,0,0,0,null,37,0,0,0,0,null,37,0,0,0,0,null,37,0,0,0,0,null,37,0,0,0,0,null,37,0,0,0,0]
[38,0,0,0,0,null,38,0,0,0,0,null,38,0,0,0,0,null,38,0,0,0,0,null,38,0,0,0,0,null,38,0,0,0,0,null,38,0,0,0,0,null,38,0,0,0,0,null,38,0,0,0,0,null,38,0,0,0,0,null,38,0,0,0,0,null,38,0,0,0,0]
[39,0,0,0,0,null,39,0,0,0,0,null,39,0,0,0,0,null,39,0,0,0,0,null,39,0,0,0,0,null,39,0,0,0,0,null,39,0,0,0,0,null,39,0,0,0,0,null,39,0,0,0,0,null,39,0,0,0,0,null,39,0,0,0,0,null,39,0,0,0,0]
[40,0,0,0,0,null,40,0,0,0,0,null,40,0,0,0,0,null,40,0,0,0,0,null,40,0,0,0,0,null,40,0,0,0,0,null,40,0,0,0,0,null,40,0,0,0,0,null,40,0,0,0,0,null,40,0,0,0,0,null,40,0,0,0,0,null,40,0,0,0,0]
[41,0,0,0,0,null,41,0,0,0,0,null,41,0,0,0,0,null,41,0,0,0,0,null,41,0,0,0,0,null,41,0,0,0,0,null,41,0,0,0,0,null,41,0,0,0,0,null,41,0,0,0,0,null,41,0,0,0,0,null,41,0,0,0,0,null,41,0,0,0,0]
[42,0,0,0,0,null,42,0,0,0,0,null,42,0,0,0,0,null,42,0,0,0,0,null,42,0,0,0,0,null,42,0,0,0,0,null,42,0,0,0,0,null,42,0,0,0,0,null,42,0,0,0,0,null,42,0,0,0,0,null,42,0,0,0,0,null,42,0,0,0,0]
[43,0,0,0,0,null,43,0,0,0,0,null,43,0,0,0,0,null,43,0,0,0,0,null,43,0,0,0,0,null,43,0,0,0,0,null,43,0,0,0,0,null,43,0,0,0,0,null,43,0,0,0,0,null,43,0,0,0,0,null,43,0,0,0,0,null,43,0,0,{"$f":"IF((BS52)>0,IF(BM52=0,$BR$7+$BL$7+$BF$7+$AZ$7+$AT$7+$AN$7+$AH$7+$AB$7+$V$7+$P$7+$J$7+$D$7,$BR$7),0)","v":0},0]
[44,0,0,0,0,null,44,0,0,0,0,null,44,0,0,0,0,null,44,0,0,0,0,null,44,0,0,0,0,null,44,0,0,0,0,null,44,0,0,0,0,null,44,0,0,0,0,null,44,0,0,0,0,null,44,0,0,0,0,null,44,0,0,0,0,null,44,0,0,0,0]
[45,0,0,0,0,null,45,0,0,0,0,null,45,0,0,0,0,null,45,0,0,0,0,null,45,0,0,0,0,null,45,0,0,0,0,null,45,0,0,0,0,null,45,0,0,0,0,null,45,0,0,0,0,null,45,0,0,0,0,null,45,0,0,0,0,null,45,0,0,0,0]
[46,0,0,0,0,null,46,0,0,0,0,null,46,0,0,0,0,null,46,0,0,0,0,null,46,0,0,0,0,null,46,0,0,0,0,null,46,0,0,0,0,null,46,0,0,0,0,null,46,0,0,0,0,null,46,0,0,0,0,null,46,0,0,0,0,null,46,0,0,0,0]
[47,0,0,0,0,null,47,0,0,0,0,null,47,0,0,0,0,null,47,0,0,0,0,null,47,0,0,0,0,null,47,0,0,0,0,null,47,0,0,0,0,null,47,0,0,0,0,null,47,0,0,0,0,null,47,0,0,0,0,null,47,0,0,0,0,null,47,0,0,0,0]
[48,0,0,0,0,null,48,0,0,0,0,null,48,0,0,0,0,null,48,0,0,0,0,null,48,0,0,0,0,null,48,0,0,0,0,null,48,0,0,0,0,null,48,0,0,0,0,null,48,0,0,0,0,null,48,0,0,0,0,null,48,0,0,0,0,null,48,0,0,0,0]
[49,0,0,0,0,null,49,0,0,0,0,null,49,0,0,0,0,null,49,0,0,0,0,null,49,0,0,0,0,null,49,0,0,0,0,null,49,0,0,0,0,null,49,0,0,0,0,null,49,0,0,0,0,null,49,0,0,0,0,null,49,0,0,0,0,null,49,0,0,0,0]
[50,0,0,0,0,null,50,0,0,0,0,null,50,0,0,0,0,null,50,0,0,0,0,null,50,0,0,0,0,null,50,0,0,0,0,null,50,0,0,0,0,null,50,0,0,0,0,null,50,0,0,0,0,null,50,0,0,0,0,null,50,0,0,0,0,null,50,0,0,0,0]
[51,0,0,0,0,null,51,0,0,0,0,null,51,0,0,0,0,null,51,0,0,0,0,null,51,0,0,0,0,null,51,0,0,0,0,null,51,0,0,0,0,null,51,0,0,0,0,null,51,0,0,0,0,null,51,0,0,0,0,null,51,0,0,0,0,null,51,0,0,0,0]
[52,0,0,0,0,null,52,0,0,0,0,null,52,0,0,0,0,null,52,0,0,0,0,null,52,0,0,0,0,null,52,0,0,0,0,null,52,0,0,0,0,null,52,0,0,0,0,null,52,0,0,0,0,null,52,0,0,0,0,null,52,0,0,0,0,null,52,0,0,0,0]
[53,0,0,0,0,null,53,0,0,0,0,null,53,0,0,0,0,null,53,0,0,0,0,null,53,0,0,0,0,null,53,0,0,0,0,null,53,0,0,0,0,null,53,0,0,0,0,null,53,0,0,0,0,null,53,0,0,0,0,null,53,0,0,0,0,null,53,0,0,0,0]
[54,0,0,0,0,null,54,0,0,0,0,null,54,0,0,0,0,null,54,0,0,0,0,null,54,0,0,0,0,null,54,0,0,0,0,null,54,0,0,0,0,null,54,0,0,0,0,null,54,0,0,0,0,null,54,0,0,0,0,null,54,0,0,0,0,null,54,0,0,0,0]
[55,0,0,0,0,null,55,0,0,0,0,null,55,0,0,0,0,null,55,0,0,0,0,null,55,0,0,0,0,null,55,0,0,0,0,null,55,0,0,0,0,null,55,0,0,0,0,null,55,0,0,0,0,null,55,0,0,0,0,null,55,0,0,0,0,null,55,0,0,0,0]
[56,0,0,0,0,null,56,0,0,0,0,null,56,0,0,0,0,null,56,0,0,0,0,null,56,0,0,0,0,null,56,0,0,0,0,null,56,0,0,0,0,null,56,0,0,0,0,null,56,0,0,0,0,null,56,0,0,0,0,null,56,0,0,0,0,null,56,0,0,0,0]
[57,0,0,0,0,null,57,0,0,0,0,null,57,0,0,0,0,null,57,0,0,0,0,null,57,0,0,0,0,null,57,0,0,0,0,null,57,0,0,0,0,null,57,0,0,0,0,null,57,0,0,0,0,null,57,0,0,0,0,null,57,0,0,0,0,null,57,0,0,0,0]
[58,0,0,0,0,null,58,0,0,0,0,null,58,0,0,0,0,null,58,0,0,0,0,null,58,0,0,0,0,null,58,0,0,0,0,null,58,0,0,0,0,null,58,0,0,0,0,null,58,0,0,0,0,null,58,0,0,0,0,null,58,0,0,0,0,null,58,0,0,0,0]
[59,0,0,0,0,null,59,0,0,0,0,null,59,0,0,0,0,null,59,0,0,0,0,null,59,0,0,0,0,null,59,0,0,0,0,null,59,0,0,0,0,null,59,0,0,0,0,null,59,0,0,0,0,null,59,0,0,0,0,null,59,0,0,0,0,null,59,0,0,0,0]
[60,0,0,0,0,null,60,0,0,0,0,null,60,0,0,0,0,null,60,0,0,0,0,null,60,0,0,0,0,null,60,0,0,0,0,null,60,0,0,0,0,null,60,0,0,0,0,null,60,0,0,0,0,null,60,0,0,0,0,null,60,0,0,0,0,null,60,0,0,0,0]
[61,0,0,0,0,null,61,0,0,0,0,null,61,0,0,0,0,null,61,0,0,0,0,null,61,0,0,0,0,null,61,0,0,0,0,null,61,0,0,0,0,null,61,0,0,0,0,null,61,0,0,0,0,null,61,0,0,0,0,null,61,0,0,0,0,null,61,0,0,0,0]
[62,0,0,0,0,null,62,0,0,0,0,null,62,0,0,0,0,null,62,0,0,0,0,null,62,0,0,0,0,null,62,0,0,0,0,null,62,0,0,0,0,null,62,0,0,0,0,null,62,0,0,0,0,null,62,0,0,0,0,null,62,0,0,0,0,null,62,0,0,0,0]
[63,0,0,0,0,null,63,0,0,0,0,null,63,0,0,0,0,null,63,0,0,0,0,null,63,0,0,0,0,null,63,0,0,0,0,null,63,0,0,0,0,null,63,0,0,0,0,null,63,0,0,0,0,null,63,0,0,0,0,null,63,0,0,0,0,null,63,0,0,0,0]
[64,0,0,0,0,null,64,0,0,0,0,null,64,0,0,0,0,null,64,0,0,0,0,null,64,0,0,0,0,null,64,0,0,0,0,null,64,0,0,0,0,null,64,0,0,0,0,null,64,0,0,0,0,null,64,0,0,0,0,null,64,0,0,0,0,null,64,0,0,0,0]
[65,0,0,0,0,null,65,0,0,0,0,null,65,0,0,0,0,null,65,0,0,0,0,null,65,0,0,0,0,null,65,0,0,0,0,null,65,0,0,0,0,null,65,0,0,0,0,null,65,0,0,0,0,null,65,0,0,0,0,null,65,0,0,0,0,null,65,0,0,0,0]
[66,0,0,0,0,null,66,0,0,0,{"$f":"IF((H76+I76-J76)>0,H76+I76-J76,0)","v":0},null,66,0,0,0,{"$f":"IF((N76+O76-P76)>0,N76+O76-P76,0)","v":0},null,66,0,{"$f":"T76*$V$6","v":0},0,{"$f":"IF((T76+U76-V76)>0,T76+U76-V76,0)","v":0},null,66,0,{"$f":"Z76*$AB$6","v":0},0,{"$f":"IF((Z76+AA76-AB76)>0,Z76+AA76-AB76,0)","v":0},null,66,0,{"$f":"AF76*$AH$6","v":0},0,{"$f":"IF((AF76+AG76-AH76)>0,AF76+AG76-AH76,0)","v":0},null,66,0,{"$f":"AL76*$AN$6","v":0},0,{"$f":"IF((AL76+AM76-AN76)>0,AL76+AM76-AN76,0)","v":0},null,66,0,{"$f":"AR76*$AT$6","v":0},0,{"$f":"IF((AR76+AS76-AT76)>0,AR76+AS76-AT76,0)","v":0},null,66,0,{"$f":"AX76*$AZ$6","v":0},0,{"$f":"IF((AX76+AY76-AZ76)>0,AX76+AY76-AZ76,0)","v":0},null,66,0,{"$f":"BD76*$BF$6","v":0},0,{"$f":"IF((BD76+BE76-BF76)>0,BD76+BE76-BF76,0)","v":0},null,66,0,{"$f":"BJ76*$BL$6","v":0},0,{"$f":"IF((BJ76+BK76-BL76)>0,BJ76+BK76-BL76,0)","v":0},null,66,0,{"$f":"BP76*$BR$6","v":0},0,{"$f":"IF((BP76+BQ76-BR76)>0,BP76+BQ76-BR76,0)","v":0}]
[67,0,0,{"$f":"IF((E76)>0,$D$7,0)","v":0},{"$f":"IF((B77+C77-D77)>0,B77+C77-D77,0)","v":0},null,67,{"$f":"K76","v":0},{"$f":"H77*$J$6","v":0},{"$f":"IF((K76)>0,IF(E76=0,$J$7+$D$7,$J$7),0)","v":0},0,null,67,{"$f":"Q76","v":0},{"$f":"N77*$P$6","v":0},{"$f":"IF((Q76)>0,IF(K76=0,$P$7+$J$7+$D$7,$P$7),0)","v":0},0,null,67,{"$f":"W76","v":0},0,{"$f":"IF((W76)>0,IF(Q76=0,$P$7+$J$7+$D$7+$V$7,$V$7),0)","v":0},0,null,67,{"$f":"AC76","v":0},0,{"$f":"IF((AC76)>0,IF(W76=0,$AB$7+$V$7+$P$7+$J$7+$D$7,$AB$7),0)","v":0},0,null,67,{"$f":"AI76","v":0},0,{"$f":"IF((AI76)>0,IF(AC76=0,$AH$7+$AB$7+$V$7+$P$7+$J$7+$D$7,$AH$7),0)","v":0},0,null,67,{"$f":"AO76","v":0},0,{"$f":"IF((AO76)>0,IF(AI76=0,$AN$7+$AH$7+$AB$7+$V$7+$P$7+$J$7+$D$7,$AN$7),0)","v":0},0,null,67,{"$f":"AU76","v":0},0,{"$f":"IF((AU76)>0,IF(AO76=0,$AT$7+$AN$7+$AH$7+$AB$7+$V$7+$P$7+$J$7+$D$7,$AT$7),0)","v":0},0,null,67,{"$f":"BA76","v":0},0,{"$f":"IF((BA76)>0,IF(AU76=0,$AZ$7+$AT$7+$AN$7+$AH$7+$AB$7+$V$7+$P$7+$J$7+$D$7,$AZ$7),0)","v":0},0,null,67,{"$f":"BG76","v":0},0,{"$f":"IF((BG76)>0,IF(BA76=0,$BF$7+$AZ$7+$AT$7+$AN$7+$AH$7+$AB$7+$V$7+$P$7+$J$7+$D$7,$BF$7),0)","v":0},0,null,67,{"$f":"BM76","v":0},0,{"$f":"IF((BM76)>0,IF(BG76=0,$BL$7+$BF$7+$AZ$7+$AT$7+$AN$7+$AH$7+$AB$7+$V$7+$P$7+$J$7+$D$7,$BL$7),0)","v":0},0,null,67,{"$f":"BS76","v":0},0,{"$f":"IF((BS76)>0,IF(BM76=0,$BR$7+$BL$7+$BF$7+$AZ$7+$AT$7+$AN$7+$AH$7+$AB$7+$V$7+$P$7+$J$7+$D$7,$BR$7),0)","v":0},0]
[68,0,0,0,0,null,68,0,0,0,0,null,68,0,0,0,0,null,68,0,0,0,0,null,68,0,0,0,0,null,68,0,0,0,0,null,68,0,0,0,0,null,68,0,0,0,0,null,68,0,0,0,0,null,68,0,0,0,0,null,68,0,0,0,0,null,68,0,0,0,0]
[69,0,0,0,0,null,69,0,0,0,0,null,69,0,0,0,0,null,69,0,0,0,0,null,69,0,0,0,0,null,69,0,0,0,0,null,69,0,0,0,0,null,69,0,0,0,0,null,69,0,0,0,0,null,69,0,0,0,0,null,69,0,0,0,0,null,69,0,0,0,0]
[70,0,0,0,0,null,70,0,0,0,0,null,70,0,0,0,0,null,70,0,0,0,0,null,70,0,0,0,0,null,70,0,0,0,0,null,70,0,0,0,0,null,70,0,0,0,0,null,70,0,0,0,0,null,70,0,0,0,0,null,70,0,0,0,0,null,70,0,0,0,0]
[71,0,0,0,0,null,71,0,0,0,0,null,71,0,0,0,0,null,71,0,0,0,0,null,71,0,0,0,0,null,71,0,0,0,0,null,71,0,0,0,0,null,71,0,0,0,0,null,71,0,0,0,0,null,71,0,0,0,0,null,71,0,0,0,0,null,71,0,0,0,0]
[72,{"$f":"E81","v":0},{"$f":"B82*$D$6","v":0},0,0,null,72,0,0,0,0,null,72,0,0,0,0,null,72,0,0,0,0,null,72,0,0,0,0,null,72,0,0,0,0,null,72,0,0,0,0,null,72,0,0,0,0,null,72,0,0,0,0,null,72,0,0,0,0,null,72,0,0,0,0,null,72,0,0,0,0]
[73,0,0,0,0,null,73,0,0,0,0,null,73,0,0,0,0,null,73,0,0,0,0,null,73,0,0,0,0,null,73,0,0,0,0,null,73,0,0,0,0,null,73,0,0,0,0,null,73,0,0,0,0,null,73,0,0,0,0,null,73,0,0,0,0,null,73,0,0,0,0]
[74,0,0,0,0,null,74,0,0,0,0,null,74,0,0,0,0,null,74,0,0,0,0,null,74,0,0,0,0,null,74,0,0,0,0,null,74,0,0,0,0,null,74,0,0,0,0,null,74,0,0,0,0,null,74,0,0,0,0,null,74,0,0,0,0,null,74,0,0,0,0]
[75,0,0,0,0,null,75,0,0,0,0,null,75,0,0,0,0,null,75,0,0,0,0,null,75,0,0,0,0,null,75,0,0,0,0,null,75,0,0,0,0,null,75,0,0,0,0,null,75,0,0,0,0,null,75,0,0,0,0,null,75,0,0,0,0,null,75,0,0,0,0]
[76,0,0,0,0,null,76,0,0,0,0,null,76,0,0,0,0,null,76,0,0,0,0,null,76,0,0,0,0,null,76,0,0,0,0,null,76,0,0,0,0,null,76,0,0,0,0,null,76,0,0,0,0,null,76,0,0,0,0,null,76,0,0,0,0,null,76,0,0,0,0]
[77,0,0,0,0,null,77,0,0,0,0,null,77,0,0,0,0,null,77,0,0,0,0,null,77,0,0,0,0,null,77,0,0,0,0,null,77,0,0,0,0,null,77,0,0,0,0,null,77,0,0,0,0,null,77,0,0,0,0,null,77,0,0,0,0,null,77,0,0,0,0]
[78,0,0,0,0,null,78,0,0,0,0,null,78,0,0,0,0,null,78,0,0,0,0,null,78,0,0,0,0,null,78,0,0,0,0,null,78,0,0,0,0,null,78,0,0,0,0,null,78,0,0,0,0,null,78,0,0,0,0,null,78,0,0,0,0,null,78,0,0,0,0]
[79,0,0,0,0,null,79,0,0,0,0,null,79,0,0,0,0,null,79,0,0,0,0,null,79,0,0,0,0,null,79,0,0,0,0,null,79,0,0,0,0,null,79,0,0,0,0,null,79,0,0,0,0,null,79,0,0,0,0,null,79,0,0,0,0,null,79,0,0,0,0]
[80,0,0,0,0,null,80,0,0,0,0,null,80,0,0,0,0,null,80,0,0,0,0,null,80,0,0,0,0,null,80,0,0,0,0,null,80,0,0,0,0,null,80,0,0,0,0,null,80,0,0,0,0,null,80,0,0,0,0,null,80,0,0,0,0,null,80,0,0,0,0]
[81,0,0,0,0,null,81,0,0,0,0,null,81,0,0,0,0,null,81,0,0,0,0,null,81,0,0,0,0,null,81,0,0,0,0,null,81,0,0,0,0,null,81,0,0,0,0,null,81,0,0,0,0,null,81,0,0,0,0,null,81,0,0,0,0,null,81,0,0,0,0]
[82,0,0,0,0,null,82,0,0,0,0,null,82,0,0,0,0,null,82,0,0,0,0,null,82,0,0,0,0,null,82,0,0,0,0,null,82,0,0,0,0,null,82,0,0,0,0,null,82,0,0,0,0,null,82,0,0,0,0,null,82,0,0,0,0,null,82,0,0,0,0]
[83,0,0,0,0,null,83,0,0,0,0,null,83,0,0,0,0,null,83,0,0,0,0,null,83,0,0,0,0,null,83,0,0,0,0,null,83,0,0,0,0,null,83,0,0,0,0,null,83,0,0,0,0,null,83,0,0,0,0,null,83,0,0,0,0,null,83,0,0,0,0]
[84,0,0,0,0,null,84,0,0,0,0,null,84,0,0,0,0,null,84,0,0,0,0,null,84,0,0,0,0,null,84,0,0,0,0,null,84,0,0,0,0,null,84,0,0,0,0,null,84,0,0,0,0,null,84,0,0,0,0,null,84,0,0,0,0,null,84,0,0,0,0]
[85,0,0,0,0,null,85,0,0,0,0,null,85,0,0,0,0,null,85,0,0,0,0,null,85,0,0,0,0,null,85,0,0,0,0,null,85,0,0,0,0,null,85,0,0,0,0,null,85,0,0,0,0,null,85,0,0,0,0,null,85,0,0,0,0,null,85,0,0,0,0]
[86,0,0,0,0,null,86,0,0,0,0,null,86,0,0,0,0,null,86,0,0,0,0,null,86,0,0,0,0,null,86,0,0,0,0,null,86,0,0,0,0,null,86,0,0,0,0,null,86,0,0,0,0,null,86,0,0,0,0,null,86,0,0,0,0,null,86,0,0,0,0]
[87,0,0,0,0,null,87,0,0,0,0,null,87,0,0,0,0,null,87,0,0,0,0,null,87,0,0,0,0,null,87,0,0,0,0,null,87,0,0,0,0,null,87,0,0,0,0,null,87,0,0,0,0,null,87,0,0,0,0,null,87,0,0,0,0,null,87,0,0,0,0]
[88,0,0,0,0,null,88,0,0,0,0,null,88,0,0,0,0,null,88,0,0,0,0,null,88,0,0,0,0,null,88,0,0,0,0,null,88,0,0,0,0,null,88,0,0,0,0,null,88,0,0,0,0,null,88,0,0,0,0,null,88,0,0,0,0,null,88,0,0,0,0]
[89,0,0,0,0,null,89,0,0,0,0,null,89,0,0,0,0,null,89,0,0,0,0,null,89,0,0,0,0,null,89,0,0,0,0,null,89,0,0,0,0,null,89,0,0,0,0,null,89,0,0,0,0,null,89,0,0,0,0,null,89,0,0,0,0,null,89,0,0,0,0]
[90,0,0,0,0,null,90,0,0,0,0,null,90,0,0,0,0,null,90,0,0,0,0,null,90,0,0,0,0,null,90,0,0,0,0,null,90,0,0,0,0,null,90,0,0,0,0,null,90,0,0,0,0,null,90,0,0,0,0,null,90,0,0,0,0,null,90,0,0,0,0]
[91,0,0,0,0,null,91,0,0,0,0,null,91,0,0,0,0,null,91,0,0,0,0,null,91,0,0,0,0,null,91,0,0,0,0,null,91,0,0,0,0,null,91,0,0,0,0,null,91,0,0,0,0,null,91,0,0,0,0,null,91,0,0,0,0,null,91,0,0,0,0]
[92,0,0,0,0,null,92,0,0,0,0,null,92,0,0,0,0,null,92,0,0,0,0,null,92,0,0,0,0,null,92,0,0,0,0,null,92,0,0,0,0,null,92,0,0,0,0,null,92,0,0,0,0,null,92,0,0,0,0,null,92,0,0,0,0,null,92,0,0,0,0]
[93,0,0,0,0,null,93,0,0,0,0,null,93,0,0,0,0,null,93,0,0,0,0,null,93,0,0,0,0,null,93,0,0,0,0,null,93,0,0,0,0,null,93,0,0,0,0,null,93,0,0,0,0,null,93,0,0,0,0,null,93,0,0,0,0,null,93,0,0,0,0]
[94,0,0,0,0,null,94,0,0,0,0,null,94,0,0,0,0,null,94,0,0,0,0,null,94,0,0,0,0,null,94,0,0,0,0,null,94,0,0,0,0,null,94,0,0,0,0,null,94,0,0,0,0,null,94,0,0,0,0,null,94,0,0,0,0,null,94,0,0,0,0]
[95,0,0,0,0,null,95,0,0,0,0,null,95,0,0,0,0,null,95,0,0,0,0,null,95,0,0,0,0,null,95,0,0,0,0,null,95,0,0,0,0,null,95,0,0,0,0,null,95,0,0,0,0,null,95,0,0,0,0,null,95,0,0,0,0,null,95,0,0,0,0]
[96,0,0,0,0,null,96,0,0,0,0,null,96,0,0,0,0,null,96,0,0,0,0,null,96,0,0,0,0,null,96,0,0,0,0,null,96,0,0,0,0,null,96,0,0,0,0,null,96,0,0,0,0,null,96,0,0,0,0,null,96,0,0,0,0,null,96,0,0,0,0]
[97,0,0,0,0,null,97,0,0,0,0,null,97,0,0,0,0,null,97,0,0,0,0,null,97,0,0,0,0,null,97,0,0,0,0,null,97,0,0,0,0,null,97,0,0,0,0,null,97,0,0,0,0,null,97,0,0,0,0,null,97,0,0,0,0,null,97,0,0,0,0]
[98,0,0,0,0,null,98,0,0,0,0,null,98,0,0,0,0,null,98,0,0,0,0,null,98,0,0,0,0,null,98,0,0,0,0,null,98,0,0,0,0,null,98,0,0,0,0,null,98,0,0,0,0,null,98,0,0,0,0,null,98,0,0,0,0,null,98,0,0,0,0]
[99,0,0,0,0,null,99,0,0,0,0,null,99,0,0,0,0,null,99,0,0,0,0,null,99,0,0,0,0,null,99,0,0,0,0,null,99,0,0,0,0,null,99,0,0,0,0,null,99,0,0,0,0,null,99,0,0,0,0,null,99,0,0,0,0,null,99,0,0,0,0]
[100,0,0,0,0,null,100,0,0,0,0,null,100,0,0,0,0,null,100,0,0,0,0,null,100,0,0,0,0,null,100,0,0,0,0,null,100,0,0,0,0,null,100,0,0,0,0,null,100,0,0,0,0,null,100,0,0,0,0,null,100,0,0,0,0,null,100,0,0,0,0]
[101,0,0,0,0,null,101,0,0,0,0,null,101,0,0,0,0,null,101,0,0,0,0,null,101,0,0,0,0,null,101,0,0,0,0,null,101,0,0,0,0,null,101,0,0,0,0,null,101,0,0,0,0,null,101,0,0,0,0,null,101,0,0,0,0,null,101,0,0,0,0]
[102,0,0,0,0,null,102,0,0,0,0,null,102,0,0,0,0,null,102,0,0,0,0,null,102,0,0,0,0,null,102,0,0,0,0,null,102,0,0,0,0,null,102,0,0,0,0,null,102,0,0,0,0,null,102,0,0,0,0,null,102,0,0,0,0,null,102,0,0,0,0]
[103,0,0,0,0,null,103,0,0,0,0,null,103,0,0,0,0,null,103,0,0,0,0,null,103,0,0,0,0,null,103,0,0,0,0,null,103,0,0,0,0,null,103,0,0,0,0,null,103,0,0,0,0,null,103,0,0,0,0,null,103,0,0,0,0,null,103,0,0,0,0]
[104,0,0,0,0,null,104,0,0,0,0,null,104,0,0,0,0,null,104,0,0,0,0,null,104,0,0,0,0,null,104,0,0,0,0,null,104,0,0,0,0,null,104,0,0,0,0,null,104,0,0,0,0,null,104,0,0,0,0,null,104,0,0,0,0,null,104,0,0,0,0]
[105,0,0,0,0,null,105,0,0,0,0,null,105,0,0,0,0,null,105,0,0,0,0,null,105,0,0,0,0,null,105,0,0,0,0,null,105,0,0,0,0,null,105,0,0,0,0,null,105,0,0,0,0,null,105,0,0,0,0,null,105,0,0,0,0,null,105,0,0,0,0]
[106,0,0,0,0,null,106,0,0,0,0,null,106,0,0,0,0,null,106,0,0,0,0,null,106,0,0,0,0,null,106,0,0,0,0,null,106,0,0,0,0,null,106,0,0,0,0,null,106,0,0,0,0,null,106,0,0,0,0,null,106,0,0,0,0,null,106,0,0,0,0]
[107,0,0,0,0,null,107,0,0,0,0,null,107,0,0,0,0,null,107,0,0,0,0,null,107,0,0,0,0,null,107,0,0,0,0,null,107,0,0,0,0,null,107,0,0,0,0,null,107,0,0,0,0,null,107,0,0,0,0,null,107,0,0,0,0,null,107,0,0,0,0]
[108,0,0,0,0,null,108,0,0,0,0,null,108,0,0,0,0,null,108,0,0,0,0,null,108,0,0,0,0,null,108,0,0,0,0,null,108,0,0,0,0,null,108,0,0,0,0,null,108,0,0,0,0,null,108,0,0,0,0,null,108,0,0,0,0,null,108,0,0,0,0]
[109,0,0,0,0,null,109,0,0,0,0,null,109,0,0,0,0,null,109,0,0,0,0,null,109,0,0,0,0,null,109,0,0,0,0,null,109,0,0,0,0,null,109,0,0,0,0,null,109,0,0,0,0,null,109,0,0,0,0,null,109,0,0,0,0,null,109,0,0,0,0]
[110,0,0,0,0,null,110,0,0,0,0,null,110,0,0,0,0,null,110,0,0,0,0,null,110,0,0,0,0,null,110,0,0,0,0,null,110,0,0,0,0,null,110,0,0,0,0,null,110,0,0,0,0,null,110,0,0,0,0,null,110,0,0,0,0,null,110,0,0,0,0]
[111,0,0,0,0,null,111,0,0,0,0,null,111,0,0,0,0,null,111,0,0,0,0,null,111,0,0,0,0,null,111,0,0,0,0,null,111,0,0,0,0,null,111,0,0,0,0,null,111,0,0,0,0,null,111,0,0,0,0,null,111,0,0,0,0,null,111,0,0,0,0]
[112,0,0,0,0,null,112,0,0,0,0,null,112,0,0,0,0,null,112,0,0,0,0,null,112,0,0,0,0,null,112,0,0,0,0,null,112,0,0,0,0,null,112,0,0,0,0,null,112,0,0,0,0,null,112,0,0,0,0,null,112,0,0,0,0,null,112,0,0,0,0]
[113,0,0,0,0,null,113,0,0,0,0,null,113,0,0,0,0,null,113,0,0,0,0,null,113,0,0,0,0,null,113,0,0,0,0,null,113,0,0,0,0,null,113,0,0,0,0,null,113,0,0,0,0,null,113,0,0,0,0,null,113,0,0,0,0,null,113,0,0,0,0]
[114,0,0,0,0,null,114,0,0,0,0,null,114,0,0,0,0,null,114,0,0,0,0,null,114,0,0,0,0,null,114,0,0,0,0,null,114,0,0,0,0,null,114,0,0,0,0,null,114,0,0,0,0,null,114,0,0,0,0,null,114,0,0,0,0,null,114,0,0,0,0]
[115,0,0,0,0,null,115,0,0,0,0,null,115,0,0,0,0,null,115,0,0,0,0,null,115,0,0,0,0,null,115,0,0,0,0,null,115,0,0,0,0,null,115,0,0,0,0,null,115,0,0,0,0,null,115,0,0,0,0,null,115,0,0,0,0,null,115,0,0,0,0]
[116,0,0,0,0,null,116,0,0,0,0,null,116,0,0,0,0,null,116,0,0,0,0,null,116,0,0,0,0,null,116,0,0,0,0,null,116,0,0,0,0,null,116,0,0,0,0,null,116,0,0,0,0,null,116,0,0,0,0,null,116,0,0,0,0,null,116,0,0,0,0]
[117,0,0,0,0,null,117,0,0,0,0,null,117,0,0,0,0,null,117,0,0,0,0,null,117,0,0,0,0,null,117,0,0,0,0,null,117,0,0,0,0,null,117,0,0,0,0,null,117,0,0,0,0,null,117,0,0,0,0,null,117,0,0,0,0,null,117,0,0,0,0]
[118,0,0,0,0,null,118,0,0,0,0,null,118,0,0,0,0,null,118,0,0,0,0,null,118,0,0,0,0,null,118,0,0,0,0,null,118,0,0,0,0,null,118,0,0,0,0,null,118,0,0,0,0,null,118,0,0,0,0,null,118,0,0,0,0,null,118,0,0,0,0]
[119,0,0,0,0,null,119,0,0,0,0,null,119,0,0,0,0,null,119,0,0,0,0,null,119,0,0,0,0,null,119,0,0,0,0,null,119,0,0,0,0,null,119,0,0,0,0,null,119,0,0,0,0,null,119,0,0,0,0,null,119,0,0,0,0,null,119,0,0,0,0]
[120,0,0,0,0,null,120,0,0,0,0,null,120,0,0,0,0,null,120,0,0,0,0,null,120,0,0,0,0,null,120,0,0,0,0,null,120,0,0,0,0,null,120,0,0,0,0,null,120,0,0,0,0,null,120,0,0,0,0,null,120,0,0,0,0,null,120,0,0,0,0]
[121,{"$f":"E130","v":0},{"$f":"B131*$D$6","v":0},{"$f":"IF((E130)>0,$D$7,0)","v":0},{"$f":"IF((B131+C131-D131)>0,B131+C131-D131,0)","v":0},null,121,{"$f":"K130","v":0},{"$f":"H131*$J$6","v":0},{"$f":"IF((K130)>0,IF(E130=0,$J$7+$D$7,$J$7),0)","v":0},{"$f":"IF((H131+I131-J131)>0,H131+I131-J131,0)","v":0},null,121,{"$f":"Q130","v":0},{"$f":"N131*$P$6","v":0},{"$f":"IF((Q130)>0,IF(K130=0,$P$7+$J$7+$D$7,$P$7),0)","v":0},{"$f":"IF((N131+O131-P131)>0,N131+O131-P131,0)","v":0},null,121,{"$f":"W130","v":0},{"$f":"T131*$V$6","v":0},{"$f":"IF((W130)>0,IF(Q130=0,$P$7+$J$7+$D$7+$V$7,$V$7),0)","v":0},{"$f":"IF((T131+U131-V131)>0,T131+U131-V131,0)","v":0},null,121,{"$f":"AC130","v":0},{"$f":"Z131*$AB$6","v":0},{"$f":"IF((AC130)>0,IF(W130=0,$AB$7+$V$7+$P$7+$J$7+$D$7,$AB$7),0)","v":0},{"$f":"IF((Z131+AA131-AB131)>0,Z131+AA131-AB131,0)","v":0},null,121,{"$f":"AI130","v":0},{"$f":"AF131*$AH$6","v":0},{"$f":"IF((AI130)>0,IF(AC130=0,$AH$7+$AB$7+$V$7+$P$7+$J$7+$D$7,$AH$7),0)","v":0},{"$f":"IF((AF131+AG131-AH131)>0,AF131+AG131-AH131,0)","v":0},null,121,{"$f":"AO130","v":0},{"$f":"AL131*$AN$6","v":0},{"$f":"IF((AO130)>0,IF(AI130=0,$AN$7+$AH$7+$AB$7+$V$7+$P$7+$J$7+$D$7,$AN$7),0)","v":0},{"$f":"IF((AL131+AM131-AN131)>0,AL131+AM131-AN131,0)","v":0},null,121,{"$f":"AU130","v":0},{"$f":"AR131*$AT$6","v":0},{"$f":"IF((AU130)>0,IF(AO130=0,$AT$7+$AN$7+$AH$7+$AB$7+$V$7+$P$7+$J$7+$D$7,$AT$7),0)","v":0},{"$f":"IF((AR131+AS131-AT131)>0,AR131+AS131-AT131,0)","v":0},null,121,{"$f":"BA130","v":0},{"$f":"AX131*$AZ$6","v":0},{"$f":"IF((BA130)>0,IF(AU130=0,$AZ$7+$AT$7+$AN$7+$AH$7+$AB$7+$V$7+$P$7+$J$7+$D$7,$AZ$7),0)","v":0},{"$f":"IF((AX131+AY131-AZ131)>0,AX131+AY131-AZ131,0)","v":0},null,121,{"$f":"BG130","v":0},{"$f":"BD131*$BF$6","v":0},{"$f":"IF((BG130)>0,IF(BA130=0,$BF$7+$AZ$7+$AT$7+$AN$7+$AH$7+$AB$7+$V$7+$P$7+$J$7+$D$7,$BF$7),0)","v":0},{"$f":"IF((BD131+BE131-BF131)>0,BD131+BE131-BF131,0)","v":0},null,121,{"$f":"BM130","v":0},{"$f":"BJ131*$BL$6","v":0},{"$f":"IF((BM130)>0,IF(BG130=0,$BL$7+$BF$7+$AZ$7+$AT$7+$AN$7+$AH$7+$AB$7+$V$7+$P$7+$J$7+$D$7,$BL$7),0)","v":0},{"$f":"IF((BJ131+BK131-BL131)>0,BJ131+BK131-BL131,0)","v":0},null,121,{"$f":"BS130","v":0},{"$f":"BP131*$BR$6","v":0},{"$f":"IF((BS130)>0,IF(BM130=0,$BR$7+$BL$7+$BF$7+$AZ$7+$AT$7+$AN$7+$AH$7+$AB$7+$V$7+$P$7+$J$7+$D$7,$BR$7),0)","v":0},{"$f":"IF((BP131+BQ131-BR131)>0,BP131+BQ131-BR131,0)","v":0}]
[122,0,0,0,0,null,122,0,0,0,0,null,122,0,0,0,0,null,122,0,0,0,0,null,122,0,0,0,0,null,122,0,0,0,0,null,122,0,0,0,0,null,122,0,0,0,0,null,122,0,0,0,0,null,122,0,0,0,0,null,122,0,0,0,0,null,122,0,0,0,0]
[123,0,0,0,0,null,123,0,0,0,0,null,123,0,0,0,0,null,123,0,0,0,0,null,123,0,0,0,0,null,123,0,0,0,0,null,123,0,0,0,0,null,123,0,0,0,0,null,123,0,0,0,0,null,123,0,0,0,0,null,123,0,0,0,0,null,123,0,0,0,0]
[124,0,0,0,0,null,124,0,0,0,0,null,124,0,0,0,0,null,124,0,0,0,0,null,124,0,0,0,0,null,124,0,0,0,0,null,124,0,0,0,0,null,124,0,0,0,0,null,124,0,0,0,0,null,124,0,0,0,0,null,124,0,0,0,0,null,124,0,0,0,0]
[125,0,0,0,0,null,125,0,0,0,0,null,125,0,0,0,0,null,125,0,0,0,0,null,125,0,0,0,0,null,125,0,0,0,0,null,125,0,0,0,0,null,125,0,0,0,0,null,125,0,0,0,0,null,125,0,0,0,0,null,125,0,0,0,0,null,125,0,0,0,0]
[126,0,0,0,0,null,126,0,0,0,0,null,126,0,0,0,0,null,126,0,0,0,0,null,126,0,0,0,0,null,126,0,0,0,0,null,126,0,0,0,0,null,126,0,0,0,0,null,126,0,0,0,0,null,126,0,0,0,0,null,126,0,0,0,0,null,126,0,0,0,0]
[127,0,0,0,0,null,127,0,0,0,0,null,127,0,0,0,0,null,127,0,0,0,0,null,127,0,0,0,0,null,127,0,0,0,0,null,127,0,0,0,0,null,127,0,0,0,0,null,127,0,0,0,0,null,127,0,0,0,0,null,127,0,0,0,0,null,127,0,0,0,0]
[128,0,0,0,0,null,128,0,0,0,0,null,128,0,0,0,0,null,128,0,0,0,0,null,128,0,0,0,0,null,128,0,0,0,0,null,128,0,0,0,0,null,128,0,0,0,0,null,128,0,0,0,0,null,128,0,0,0,0,null,128,0,0,0,0,null,128,0,0,0,0]
[129,0,0,0,0,null,129,0,0,0,0,null,129,0,0,0,0,null,129,0,0,0,0,null,129,0,0,0,0,null,129,0,0,0,0,null,129,0,0,0,0,null,129,0,0,0,0,null,129,0,0,0,0,null,129,0,0,0,0,null,129,0,0,0,0,null,129,0,0,0,0]
[130,0,0,0,0,null,130,0,0,0,0,null,130,0,0,0,0,null,130,0,0,0,0,null,130,0,0,0,0,null,130,0,0,0,0,null,130,0,0,0,0,null,130,0,0,0,0,null,130,0,0,0,0,null,130,0,0,0,0,null,130,0,0,0,0,null,130,0,0,0,0]
[131,0,0,0,0,null,131,0,0,0,0,null,131,0,0,0,0,null,131,0,0,0,0,null,131,0,0,0,0,null,131,0,0,0,0,null,131,0,0,0,0,null,131,0,0,0,0,null,131,0,0,0,0,null,131,0,0,0,0,null,131,0,0,0,0,null,131,0,0,0,0]
[132,0,0,0,0,null,132,0,0,0,0,null,132,0,0,0,0,null,132,0,0,0,0,null,132,0,0,0,0,null,132,0,0,0,0,null,132,0,0,0,0,null,132,0,0,0,0,null,132,0,0,0,0,null,132,0,0,0,0,null,132,0,0,0,0,null,132,0,0,0,0]
[133,0,0,0,0,null,133,0,0,0,0,null,133,0,0,0,0,null,133,0,0,0,0,null,133,0,0,0,0,null,133,0,0,0,0,null,133,0,0,0,0,null,133,0,0,0,0,null,133,0,0,0,0,null,133,0,0,0,0,null,133,0,0,0,0,null,133,0,0,0,0]
[134,0,0,0,0,null,134,0,0,0,0,null,134,0,0,0,0,null,134,0,0,0,0,null,134,0,0,0,0,null,134,0,0,0,0,null,134,0,0,0,0,null,134,0,0,0,0,null,134,0,0,0,0,null,134,0,0,0,0,null,134,0,0,0,0,null,134,0,0,0,0]
[135,0,0,0,0,null,135,0,0,0,0,null,135,0,0,0,0,null,135,0,0,0,0,null,135,0,0,0,0,null,135,0,0,0,0,null,135,0,0,0,0,null,135,0,0,0,0,null,135,0,0,0,0,null,135,0,0,0,0,null,135,0,0,0,0,null,135,0,0,0,0]
[136,0,0,0,0,null,136,0,0,0,0,null,136,0,0,0,0,null,136,0,0,0,0,null,136,0,0,0,0,null,136,0,0,0,0,null,136,0,0,0,0,null,136,0,0,0,0,null,136,0,0,0,0,null,136,0,0,0,0,null,136,0,0,0,0,null,136,0,0,0,0]
[137,0,0,0,0,null,137,0,0,0,0,null,137,0,0,0,0,null,137,0,0,0,0,null,137,0,0,0,0,null,137,0,0,0,0,null,137,0,0,0,0,null,137,0,0,0,0,null,137,0,0,0,0,null,137,0,0,0,0,null,137,0,0,0,0,null,137,0,0,0,0]
[138,0,0,0,0,null,138,0,0,0,0,null,138,0,0,0,0,null,138,0,0,0,0,null,138,0,0,0,0,null,138,0,0,0,0,null,138,0,0,0,0,null,138,0,0,0,0,null,138,0,0,0,0,null,138,0,0,0,0,null,138,0,0,0,0,null,138,0,0,0,0]
[139,0,0,0,0,null,139,0,0,0,0,null,139,0,0,0,0,null,139,0,0,0,0,null,139,0,0,0,0,null,139,0,0,0,0,null,139,0,0,0,0,null,139,0,0,0,0,null,139,0,0,0,0,null,139,0,0,0,0,null,139,0,0,0,0,null,139,0,0,0,0]
[140,0,0,0,0,null,140,0,0,0,0,null,140,0,0,0,0,null,140,0,0,0,0,null,140,0,0,0,0,null,140,0,0,0,0,null,140,0,0,0,0,null,140,0,0,0,0,null,140,0,0,0,0,null,140,0,0,0,0,null,140,0,0,0,0,null,140,0,0,0,0]
[141,0,0,0,0,null,141,0,0,0,0,null,141,0,0,0,0,null,141,0,0,0,0,null,141,0,0,0,0,null,141,0,0,0,0,null,141,0,0,0,0,null,141,0,0,0,0,null,141,0,0,0,0,null,141,0,0,0,0,null,141,0,0,0,0,null,141,0,0,0,0]
[142,0,0,0,0,null,142,0,0,0,0,null,142,0,0,0,0,null,142,0,0,0,0,null,142,0,0,0,0,null,142,0,0,0,0,null,142,0,0,0,0,null,142,0,0,0,0,null,142,0,0,0,0,null,142,0,0,0,0,null,142,0,0,0,0,null,142,0,0,0,0]
[143,0,0,0,0,null,143,0,0,0,0,null,143,0,0,0,0,null,143,0,0,0,0,null,143,0,0,0,0,null,143,0,0,0,0,null,143,0,0,0,0,null,143,0,0,0,0,null,143,0,0,0,0,null,143,0,0,0,0,null,143,0,0,0,0,null,143,0,0,0,0]
[144,0,0,0,0,null,144,0,0,0,0,null,144,0,0,0,0,null,144,0,0,0,0,null,144,0,0,0,0,null,144,0,0,0,0,null,144,0,0,0,0,null,144,0,0,0,0,null,144,0,0,0,0,null,144,0,0,0,0,null,144,0,0,0,0,null,144,0,0,0,0]
[145,0,0,0,0,null,145,0,0,0,0,null,145,0,0,0,0,null,145,0,0,0,0,null,145,0,0,0,0,null,145,0,0,0,0,null,145,0,0,0,0,null,145,0,0,0,0,null,145,0,0,0,0,null,145,0,0,0,0,null,145,0,0,0,0,null,145,0,0,0,0]
[146,0,0,0,0,null,146,0,0,0,0,null,146,0,0,0,0,null,146,0,0,0,0,null,146,0,0,0,0,null,146,0,0,0,0,null,146,0,0,0,0,null,146,0,0,0,0,null,146,0,0,0,0,null,146,0,0,0,0,null,146,0,0,0,0,null,146,0,0,0,0]
[147,0,0,0,0,null,147,0,0,0,0,null,147,0,0,0,0,null,147,0,0,0,0,null,147,0,0,0,0,null,147,0,0,0,0,null,147,0,0,0,0,null,147,0,0,0,0,null,147,0,0,0,0,null,147,0,0,0,0,null,147,0,0,0,0,null,147,0,0,0,0]
[148,0,0,0,0,null,148,0,0,0,0,null,148,0,0,0,0,null,148,0,0,0,0,null,148,0,0,0,0,null,148,0,0,0,0,null,148,0,0,0,0,null,148,0,0,0,0,null,148,0,0,0,0,null,148,0,0,0,0,null,148,0,0,0,0,null,148,0,0,0,0]
[149,0,0,0,0,null,149,0,0,0,0,null,149,0,0,0,0,null,149,0,0,0,0,null,149,0,0,0,0,null,149,0,0,0,0,null,149,0,0,0,0,null,149,0,0,0,0,null,149,0,0,0,0,null,149,0,0,0,0,null,149,0,0,0,0,null,149,0,0,0,0]
[150,0,0,0,0,null,150,0,0,0,0,null,150,0,0,0,0,null,150,0,0,0,0,null,150,0,0,0,0,null,150,0,0,0,0,null,150,0,0,0,0,null,150,0,0,0,0,null,150,0,0,0,0,null,150,0,0,0,0,null,150,0,0,0,0,null,150,0,0,0,0]
[151,0,0,0,0,null,151,0,0,0,0,null,151,0,0,0,0,null,151,0,0,0,0,null,151,0,0,0,0,null,151,0,0,0,0,null,151,0,0,0,0,null,151,0,0,0,0,null,151,0,0,0,0,null,151,0,0,0,0,null,151,0,0,0,0,null,151,0,0,0,0]
[152,0,0,0,0,null,152,0,0,0,0,null,152,0,0,0,0,null,152,0,0,0,0,null,152,0,0,0,0,null,152,0,0,0,0,null,152,0,0,0,0,null,152,0,0,0,0,null,152,0,0,0,0,null,152,0,0,0,0,null,152,0,0,0,0,null,152,0,0,0,0]
[153,0,0,0,0,null,153,0,0,0,0,null,153,0,0,0,0,null,153,0,0,0,0,null,153,0,0,0,0,null,153,0,0,0,0,null,153,0,0,0,0,null,153,0,0,0,0,null,153,0,0,0,0,null,153,0,0,0,0,null,153,0,0,0,0,null,153,0,0,0,0]
[154,0,0,0,0,null,154,0,0,0,0,null,154,0,0,0,0,null,154,0,0,0,0,null,154,0,0,0,0,null,154,0,0,0,0,null,154,0,0,0,0,null,154,0,0,0,0,null,154,0,0,0,0,null,154,0,0,0,0,null,154,0,0,0,0,null,154,0,0,0,0]
[155,0,0,0,0,null,155,0,0,0,0,null,155,0,0,0,0,null,155,0,0,0,0,null,155,0,0,0,0,null,155,0,0,0,0,null,155,0,0,0,0,null,155,0,0,0,0,null,155,0,0,0,0,null,155,0,0,0,0,null,155,0,0,0,0,null,155,0,0,0,0]
[156,0,0,0,0,null,156,0,0,0,0,null,156,0,0,0,0,null,156,0,0,0,0,null,156,0,0,0,0,null,156,0,0,0,0,null,156,0,0,0,0,null,156,0,0,0,0,null,156,0,0,0,0,null,156,0,0,0,0,null,156,0,0,0,0,null,156,0,0,0,0]
[157,0,0,0,0,null,157,0,0,0,0,null,157,0,0,0,0,null,157,0,0,0,0,null,157,0,0,0,0,null,157,0,0,0,0,null,157,0,0,0,0,null,157,0,0,0,0,null,157,0,0,0,0,null,157,0,0,0,0,null,157,0,0,0,0,null,157,0,0,0,0]
[158,0,0,0,0,null,158,0,0,0,0,null,158,0,0,0,0,null,158,0,0,0,0,null,158,0,0,0,0,null,158,0,0,0,0,null,158,0,0,0,0,null,158,0,0,0,0,null,158,0,0,0,0,null,158,0,0,0,0,null,158,0,0,0,0,null,158,0,0,0,0]
[159,0,0,0,0,null,159,0,0,0,0,null,159,0,0,0,0,null,159,0,0,0,0,null,159,0,0,0,0,null,159,0,0,0,0,null,159,0,0,0,0,null,159,0,0,0,0,null,159,0,0,0,0,null,159,0,0,0,0,null,159,0,0,0,0,null,159,0,0,0,0]
[160,0,0,0,0,null,160,0,0,0,0,null,160,0,0,0,0,null,160,0,0,0,0,null,160,0,0,0,0,null,160,0,0,0,0,null,160,0,0,0,0,null,160,0,0,0,0,null,160,0,0,0,0,null,160,0,0,0,0,null,160,0,0,0,0,null,160,0,0,0,0]
[161,0,0,0,0,null,161,0,0,0,0,null,161,0,0,0,0,null,161,0,0,0,0,null,161,0,0,0,0,null,161,0,0,0,0,null,161,0,0,0,0,null,161,0,0,0,0,null,161,0,0,0,0,null,161,0,0,0,0,null,161,0,0,0,0,null,161,0,0,0,0]
[162,0,0,0,0,null,162,0,0,0,0,null,162,0,0,0,0,null,162,0,0,0,0,null,162,0,0,0,0,null,162,0,0,0,0,null,162,0,0,0,0,null,162,0,0,0,0,null,162,0,0,0,0,null,162,0,0,0,0,null,162,0,0,0,0,null,162,0,0,0,0]
[163,0,0,0,0,null,163,0,0,0,0,null,163,0,0,0,0,null,163,0,0,0,0,null,163,0,0,0,0,null,163,0,0,0,0,null,163,0,0,0,0,null,163,0,0,0,0,null,163,0,0,0,0,null,163,0,0,0,0,null,163,0,0,0,0,null,163,0,0,0,0]
[164,0,0,0,0,null,164,0,0,0,0,null,164,0,0,0,0,null,164,0,0,0,0,null,164,0,0,0,0,null,164,0,0,0,0,null,164,0,0,0,0,null,164,0,0,0,0,null,164,0,0,0,0,null,164,0,0,0,0,null,164,0,0,0,0,null,164,0,0,0,0]
[165,0,0,0,0,null,165,0,0,0,0,null,165,0,0,0,0,null,165,0,0,0,0,null,165,0,0,0,0,null,165,0,0,0,0,null,165,0,0,0,0,null,165,0,0,0,0,null,165,0,0,0,0,null,165,0,0,0,0,null,165,0,0,0,0,null,165,0,0,0,0]
[166,0,0,0,0,null,166,0,0,0,0,null,166,0,0,0,0,null,166,0,0,0,0,null,166,0,0,0,0,null,166,0,0,0,0,null,166,0,0,0,0,null,166,0,0,0,0,null,166,0,0,0,0,null,166,0,0,0,0,null,166,0,0,0,0,null,166,0,0,0,0]
[167,0,0,0,0,null,167,0,0,0,0,null,167,0,0,0,0,null,167,0,0,0,0,null,167,0,0,0,0,null,167,0,0,0,0,null,167,0,0,0,0,null,167,0,0,0,0,null,167,0,0,0,0,null,167,0,0,0,0,null,167,0,0,0,0,null,167,0,0,0,0]
[168,0,0,0,0,null,168,0,0,0,0,null,168,0,0,0,0,null,168,0,0,0,0,null,168,0,0,0,0,null,168,0,0,0,0,null,168,0,0,0,0,null,168,0,0,0,0,null,168,0,0,0,0,null,168,0,0,0,0,null,168,0,0,0,0,null,168,0,0,0,0]
[169,0,0,0,0,null,169,0,0,0,0,null,169,0,0,0,0,null,169,0,0,0,0,null,169,0,0,0,0,null,169,0,0,0,0,null,169,0,0,0,0,null,169,0,0,0,0,null,169,0,0,0,0,null,169,0,0,0,0,null,169,0,0,0,0,null,169,0,0,0,0]
[170,0,0,0,0,null,170,0,0,0,0,null,170,0,0,0,0,null,170,0,0,0,0,null,170,0,0,0,0,null,170,0,0,0,0,null,170,0,0,0,0,null,170,0,0,0,0,null,170,0,0,0,0,null,170,0,0,0,0,null,170,0,0,0,0,null,170,0,0,0,0]
[171,0,0,0,0,null,171,0,0,0,0,null,171,0,0,0,0,null,171,0,0,0,0,null,171,0,0,0,0,null,171,0,0,0,0,null,171,0,0,0,0,null,171,0,0,0,0,null,171,0,0,0,0,null,171,0,0,0,0,null,171,0,0,0,0,null,171,0,0,0,0]
[172,0,0,0,0,null,172,0,0,0,0,null,172,0,0,0,0,null,172,0,0,0,0,null,172,0,0,0,0,null,172,0,0,0,0,null,172,0,0,0,0,null,172,0,0,0,0,null,172,0,0,0,0,null,172,0,0,0,0,null,172,0,0,0,0,null,172,0,0,0,0]
[173,0,0,0,0,null,173,0,0,0,0,null,173,0,0,0,0,null,173,0,0,0,0,null,173,0,0,0,0,null,173,0,0,0,0,null,173,0,0,0,0,null,173,0,0,0,0,null,173,0,0,0,0,null,173,0,0,0,0,null,173,0,0,0,0,null,173,0,0,0,0]
[174,0,0,0,0,null,174,0,0,0,0,null,174,0,0,0,0,null,174,0,0,0,0,null,174,0,0,0,0,null,174,0,0,0,0,null,174,0,0,0,0,null,174,0,0,0,0,null,174,0,0,0,0,null,174,0,0,0,0,null,174,0,0,0,0,null,174,0,0,0,0]
[175,0,0,0,0,null,175,0,0,0,0,null,175,0,0,0,0,null,175,0,0,0,0,null,175,0,0,0,0,null,175,0,0,0,0,null,175,0,0,0,0,null,175,0,0,0,0,null,175,0,0,0,0,null,175,0,0,0,0,null,175,0,0,0,0,null,175,0,0,0,0]
[176,0,0,0,0,null,176,0,0,0,0,null,176,0,0,0,0,null,176,0,0,0,0,null,176,0,0,0,0,null,176,0,0,0,0,null,176,0,0,0,0,null,176,0,0,0,0,null,176,0,0,0,0,null,176,0,0,0,0,null,176,0,0,0,0,null,176,0,0,0,0]
[177,0,0,0,0,null,177,0,0,0,0,null,177,0,0,0,0,null,177,0,0,0,0,null,177,0,0,0,0,null,177,0,0,0,0,null,177,0,0,0,0,null,177,0,0,0,0,null,177,0,0,0,0,null,177,0,0,0,0,null,177,0,0,0,0,null,177,0,0,0,0]
[178,0,0,0,0,null,178,0,0,0,0,null,178,0,0,0,0,null,178,0,0,0,0,null,178,0,0,0,0,null,178,0,0,0,0,null,178,0,0,0,0,null,178,0,0,0,0,null,178,0,0,0,0,null,178,0,0,0,0,null,178,0,0,0,0,null,178,0,0,0,0]
[179,0,0,0,0,null,179,0,0,0,0,null,179,0,0,0,0,null,179,0,0,0,0,null,179,0,0,0,0,null,179,0,0,0,0,null,179,0,0,0,0,null,179,0,0,0,0,null,179,0,0,0,0,null,179,0,0,0,0,null,179,0,0,0,0,null,179,0,0,0,0]
[180,0,0,0,0,null,180,0,0,0,0,null,180,0,0,0,0,null,180,0,0,0,0,null,180,0,0,0,0,null,180,0,0,0,0,null,180,0,0,0,0,null,180,0,0,0,0,null,180,0,0,0,0,null,180,0,0,0,0,null,180,0,0,0,0,null,180,0,0,0,0]
[181,0,0,0,0,null,181,0,0,0,0,null,181,0,0,0,0,null,181,0,0,0,0,null,181,0,0,0,0,null,181,0,0,0,0,null,181,0,0,0,0,null,181,0,0,0,0,null,181,0,0,0,0,null,181,0,0,0,0,null,181,0,0,0,0,null,181,0,0,0,0]
[182,0,0,0,0,null,182,0,0,0,0,null,182,0,0,0,0,null,182,0,0,0,0,null,182,0,0,0,0,null,182,0,0,0,0,null,182,0,0,0,0,null,182,0,0,0,0,null,182,0,0,0,0,null,182,0,0,0,0,null,182,0,0,0,0,null,182,0,0,0,0]
[183,0,0,0,0,null,183,0,0,0,0,null,183,0,0,0,0,null,183,0,0,0,0,null,183,0,0,0,0,null,183,0,0,0,0,null,183,0,0,0,0,null,183,0,0,0,0,null,183,0,0,0,0,null,183,0,0,0,0,null,183,0,0,0,0,null,183,0,0,0,0]
[184,0,0,0,0,null,184,0,0,0,0,null,184,0,0,0,0,null,184,0,0,0,0,null,184,0,0,0,0,null,184,0,0,0,0,null,184,0,0,0,0,null,184,0,0,0,0,null,184,0,0,0,0,null,184,0,0,0,0,null,184,0,0,0,0,null,184,0,0,0,0]
[185,{"$f":"E194","v":0},{"$f":"B195*$D$6","v":0},{"$f":"IF((E194)>0,$D$7,0)","v":0},{"$f":"IF((B195+C195-D195)>0,B195+C195-D195,0)","v":0},null,185,{"$f":"K194","v":0},{"$f":"H195*$J$6","v":0},{"$f":"IF((K194)>0,IF(E194=0,$J$7+$D$7,$J$7),0)","v":0},{"$f":"IF((H195+I195-J195)>0,H195+I195-J195,0)","v":0},null,185,{"$f":"Q194","v":0},{"$f":"N195*$P$6","v":0},{"$f":"IF((Q194)>0,IF(K194=0,$P$7+$J$7+$D$7,$P$7),0)","v":0},{"$f":"IF((N195+O195-P195)>0,N195+O195-P195,0)","v":0},null,185,{"$f":"W194","v":0},{"$f":"T195*$V$6","v":0},{"$f":"IF((W194)>0,IF(Q194=0,$P$7+$J$7+$D$7+$V$7,$V$7),0)","v":0},{"$f":"IF((T195+U195-V195)>0,T195+U195-V195,0)","v":0},null,185,{"$f":"AC194","v":0},{"$f":"Z195*$AB$6","v":0},{"$f":"IF((AC194)>0,IF(W194=0,$AB$7+$V$7+$P$7+$J$7+$D$7,$AB$7),0)","v":0},{"$f":"IF((Z195+AA195-AB195)>0,Z195+AA195-AB195,0)","v":0},null,185,{"$f":"AI194","v":0},{"$f":"AF195*$AH$6","v":0},{"$f":"IF((AI194)>0,IF(AC194=0,$AH$7+$AB$7+$V$7+$P$7+$J$7+$D$7,$AH$7),0)","v":0},{"$f":"IF((AF195+AG195-AH195)>0,AF195+AG195-AH195,0)","v":0},null,185,{"$f":"AO194","v":0},{"$f":"AL195*$AN$6","v":0},{"$f":"IF((AO194)>0,IF(AI194=0,$AN$7+$AH$7+$AB$7+$V$7+$P$7+$J$7+$D$7,$AN$7),0)","v":0},{"$f":"IF((AL195+AM195-AN195)>0,AL195+AM195-AN195,0)","v":0},null,185,{"$f":"AU194","v":0},{"$f":"AR195*$AT$6","v":0},{"$f":"IF((AU194)>0,IF(AO194=0,$AT$7+$AN$7+$AH$7+$AB$7+$V$7+$P$7+$J$7+$D$7,$AT$7),0)","v":0},{"$f":"IF((AR195+AS195-AT195)>0,AR195+AS195-AT195,0)","v":0},null,185,{"$f":"BA194","v":0},{"$f":"AX195*$AZ$6","v":0},{"$f":"IF((BA194)>0,IF(AU194=0,$AZ$7+$AT$7+$AN$7+$AH$7+$AB$7+$V$7+$P$7+$J$7+$D$7,$AZ$7),0)","v":0},{"$f":"IF((AX195+AY195-AZ195)>0,AX195+AY195-AZ195,0)","v":0},null,185,{"$f":"BG194","v":0},{"$f":"BD195*$BF$6","v":0},{"$f":"IF((BG194)>0,IF(BA194=0,$BF$7+$AZ$7+$AT$7+$AN$7+$AH$7+$AB$7+$V$7+$P$7+$J$7+$D$7,$BF$7),0)","v":0},{"$f":"IF((BD195+BE195-BF195)>0,BD195+BE195-BF195,0)","v":0},null,185,{"$f":"BM194","v":0},{"$f":"BJ195*$BL$6","v":0},{"$f":"IF((BM194)>0,IF(BG194=0,$BL$7+$BF$7+$AZ$7+$AT$7+$AN$7+$AH$7+$AB$7+$V$7+$P$7+$J$7+$D$7,$BL$7),0)","v":0},{"$f":"IF((BJ195+BK195-BL195)>0,BJ195+BK195-BL195,0)","v":0},null,185,{"$f":"BS194","v":0},{"$f":"BP195*$BR$6","v":0},{"$f":"IF((BS194)>0,IF(BM194=0,$BR$7+$BL$7+$BF$7+$AZ$7+$AT$7+$AN$7+$AH$7+$AB$7+$V$7+$P$7+$J$7+$D$7,$BR$7),0)","v":0},{"$f":"IF((BP195+BQ195-BR195)>0,BP195+BQ195-BR195,0)","v":0}]
[186,0,0,0,0,null,186,0,0,0,0,null,186,0,0,0,0,null,186,0,0,0,0,null,186,0,0,0,0,null,186,0,0,0,0,null,186,0,0,0,0,null,186,0,0,0,0,null,186,0,0,0,0,null,186,0,0,0,0,null,186,0,0,0,0,null,186,0,0,0,0]
[187,0,0,0,0,null,187,0,0,0,0,null,187,0,0,0,0,null,187,0,0,0,0,null,187,0,0,0,0,null,187,0,0,0,0,null,187,0,0,0,0,null,187,0,0,0,0,null,187,0,0,0,0,null,187,0,0,0,0,null,187,0,0,0,0,null,187,0,0,0,0]
[188,0,0,0,0,null,188,0,0,0,0,null,188,0,0,0,0,null,188,0,0,0,0,null,188,0,0,0,0,null,188,0,0,0,0,null,188,0,0,0,0,null,188,0,0,0,0,null,188,0,0,0,0,null,188,0,0,0,0,null,188,0,0,0,0,null,188,0,0,0,0]
[189,0,0,0,0,null,189,0,0,0,0,null,189,0,0,0,0,null,189,0,0,0,0,null,189,0,0,0,0,null,189,0,0,0,0,null,189,0,0,0,0,null,189,0,0,0,0,null,189,0,0,0,0,null,189,0,0,0,0,null,189,0,0,0,0,null,189,0,0,0,0]
[190,0,0,0,0,null,190,0,0,0,0,null,190,0,0,0,0,null,190,0,0,0,0,null,190,0,0,0,0,null,190,0,0,0,0,null,190,0,0,0,0,null,190,0,0,0,0,null,190,0,0,0,0,null,190,0,0,0,0,null,190,0,0,0,0,null,190,0,0,0,0]
[191,0,0,0,0,null,191,0,0,0,0,null,191,0,0,0,0,null,191,0,0,0,0,null,191,0,0,0,0,null,191,0,0,0,0,null,191,0,0,0,0,null,191,0,0,0,0,null,191,0,0,0,0,null,191,0,0,0,0,null,191,0,0,0,0,null,191,0,0,0,0]
[192,0,0,0,0,null,192,0,0,0,0,null,192,0,0,0,0,null,192,0,0,0,0,null,192,0,0,0,0,null,192,0,0,0,0,null,192,0,0,0,0,null,192,0,0,0,0,null,192,0,0,0,0,null,192,0,0,0,0,null,192,0,0,0,0,null,192,0,0,0,0]
[193,0,0,0,0,null,193,0,0,0,0,null,193,0,0,0,0,null,193,0,0,0,0,null,193,0,0,0,0,null,193,0,0,0,0,null,193,0,0,0,0,null,193,0,0,0,0,null,193,0,0,0,0,null,193,0,0,0,0,null,193,0,0,0,0,null,193,0,0,0,0]
[194,0,0,0,0,null,194,0,0,0,0,null,194,0,0,0,0,null,194,0,0,0,0,null,194,0,0,0,0,null,194,0,0,0,0,null,194,0,0,0,0,null,194,0,0,0,0,null,194,0,0,0,0,null,194,0,0,0,0,null,194,0,0,0,0,null,194,0,0,0,0]
[195,0,0,0,0,null,195,0,0,0,0,null,195,0,0,0,0,null,195,0,0,0,0,null,195,0,0,0,0,null,195,0,0,0,0,null,195,0,0,0,0,null,195,0,0,0,0,null,195,0,0,0,0,null,195,0,0,0,0,null,195,0,0,0,0,null,195,0,0,0,0]
[196,0,0,0,0,null,196,0,0,0,0,null,196,0,0,0,0,null,196,0,0,0,0,null,196,0,0,0,0,null,196,0,0,0,0,null,196,0,0,0,0,null,196,0,0,0,0,null,196,0,0,0,0,null,196,0,0,0,0,null,196,0,0,0,0,null,196,0,0,0,0]
[197,0,0,0,0,null,197,0,0,0,0,null,197,0,0,0,0,null,197,0,0,0,0,null,197,0,0,0,0,null,197,0,0,0,0,null,197,0,0,0,0,null,197,0,0,0,0,null,197,0,0,0,0,null,197,0,0,0,0,null,197,0,0,0,0,null,197,0,0,0,0]
[198,0,0,0,0,null,198,0,0,0,0,null,198,0,0,0,0,null,198,0,0,0,0,null,198,0,0,0,0,null,198,0,0,0,0,null,198,0,0,0,0,null,198,0,0,0,0,null,198,0,0,0,0,null,198,0,0,0,0,null,198,0,0,0,0,null,198,0,0,0,0]
[199,0,0,0,0,null,199,0,0,0,0,null,199,0,0,0,0,null,199,0,0,0,0,null,199,0,0,0,0,null,199,0,0,0,0,null,199,0,0,0,0,null,199,0,0,0,0,null,199,0,0,0,0,null,199,0,0,0,0,null,199,0,0,0,0,null,199,0,0,0,0]
[200,0,0,0,0,null,200,0,0,0,0,null,200,0,0,0,0,null,200,0,0,0,0,null,200,0,0,0,0,null,200,0,0,0,0,null,200,0,0,0,0,null,200,0,0,0,0,null,200,0,0,0,0,null,200,0,0,0,0,null,200,0,0,0,0,null,200,0,0,0,0]
[201,0,0,0,0,null,201,0,0,0,0,null,201,0,0,0,0,null,201,0,0,0,0,null,201,0,0,0,0,null,201,0,0,0,0,null,201,0,0,0,0,null,201,0,0,0,0,null,201,0,0,0,0,null,201,0,0,0,0,null,201,0,0,0,0,null,201,0,0,0,0]
[202,0,0,0,0,null,202,0,0,0,0,null,202,0,0,0,0,null,202,0,0,0,0,null,202,0,0,0,0,null,202,0,0,0,0,null,202,0,0,0,0,null,202,0,0,0,0,null,202,0,0,0,0,null,202,0,0,0,0,null,202,0,0,0,0,null,202,0,0,0,0]
[203,0,0,0,0,null,203,0,0,0,0,null,203,0,0,0,0,null,203,0,0,0,0,null,203,0,0,0,0,null,203,0,0,0,0,null,203,0,0,0,0,null,203,0,0,0,0,null,203,0,0,0,0,null,203,0,0,0,0,null,203,0,0,0,0,null,203,0,0,0,0]
[204,0,0,0,0,null,204,0,0,0,0,null,204,0,0,0,0,null,204,0,0,0,0,null,204,0,0,0,0,null,204,0,0,0,0,null,204,0,0,0,0,null,204,0,0,0,0,null,204,0,0,0,0,null,204,0,0,0,0,null,204,0,0,0,0,null,204,0,0,0,0]
[205,0,0,0,0,null,205,0,0,0,0,null,205,0,0,0,0,null,205,0,0,0,0,null,205,0,0,0,0,null,205,0,0,0,0,null,205,0,0,0,0,null,205,0,0,0,0,null,205,0,0,0,0,null,205,0,0,0,0,null,205,0,0,0,0,null,205,0,0,0,0]
[206,0,0,0,0,null,206,0,0,0,0,null,206,0,0,0,0,null,206,0,0,0,0,null,206,0,0,0,0,null,206,0,0,0,0,null,206,0,0,0,0,null,206,0,0,0,0,null,206,0,0,0,0,null,206,0,0,0,0,null,206,0,0,0,0,null,206,0,0,0,0]
[207,0,0,0,0,null,207,0,0,0,0,null,207,0,0,0,0,null,207,0,0,0,0,null,207,0,0,0,0,null,207,0,0,0,0,null,207,0,0,0,0,null,207,0,0,0,0,null,207,0,0,0,0,null,207,0,0,0,0,null,207,0,0,0,0,null,207,0,0,0,0]
[208,0,0,0,0,null,208,0,0,0,0,null,208,0,0,0,0,null,208,0,0,0,0,null,208,0,0,0,0,null,208,0,0,0,0,null,208,0,0,0,0,null,208,0,0,0,0,null,208,0,0,0,0,null,208,0,0,0,0,null,208,0,0,0,0,null,208,0,0,0,0]
[209,0,0,0,0,null,209,0,0,0,0,null,209,0,0,0,0,null,209,0,0,0,0,null,209,0,0,0,0,null,209,0,0,0,0,null,209,0,0,0,0,null,209,0,0,0,0,null,209,0,0,0,0,null,209,0,0,0,0,null,209,0,0,0,0,null,209,0,0,0,0]
[210,0,0,0,0,null,210,0,0,0,0,null,210,0,0,0,0,null,210,0,0,0,0,null,210,0,0,0,0,null,210,0,0,0,0,null,210,0,0,0,0,null,210,0,0,0,0,null,210,0,0,0,0,null,210,0,0,0,0,null,210,0,0,0,0,null,210,0,0,0,0]
[211,0,0,0,0,null,211,0,0,0,0,null,211,0,0,0,0,null,211,0,0,0,0,null,211,0,0,0,0,null,211,0,0,0,0,null,211,0,0,0,0,null,211,0,0,0,0,null,211,0,0,0,0,null,211,0,0,0,0,null,211,0,0,0,0,null,211,0,0,0,0]
[212,0,0,0,0,null,212,0,0,0,0,null,212,0,0,0,0,null,212,0,0,0,0,null,212,0,0,0,0,null,212,0,0,0,0,null,212,0,0,0,0,null,212,0,0,0,0,null,212,0,0,0,0,null,212,0,0,0,0,null,212,0,0,0,0,null,212,0,0,0,0]
[213,0,0,0,0,null,213,0,0,0,0,null,213,0,0,0,0,null,213,0,0,0,0,null,213,0,0,0,0,null,213,0,0,0,0,null,213,0,0,0,0,null,213,0,0,0,0,null,213,0,0,0,0,null,213,0,0,0,0,null,213,0,0,0,0,null,213,0,0,0,0]
[214,0,0,0,0,null,214,0,0,0,0,null,214,0,0,0,0,null,214,0,0,0,0,null,214,0,0,0,0,null,214,0,0,0,0,null,214,0,0,0,0,null,214,0,0,0,0,null,214,0,0,0,0,null,214,0,0,0,0,null,214,0,0,0,0,null,214,0,0,0,0]
[215,0,0,0,0,null,215,0,0,0,0,null,215,0,0,0,0,null,215,0,0,0,0,null,215,0,0,0,0,null,215,0,0,0,0,null,215,0,0,0,0,null,215,0,0,0,0,null,215,0,0,0,0,null,215,0,0,0,0,null,215,0,0,0,0,null,215,0,0,0,0]
[216,0,0,0,0,null,216,0,0,0,0,null,216,0,0,0,0,null,216,0,0,0,0,null,216,0,0,0,0,null,216,0,0,0,0,null,216,0,0,0,0,null,216,0,0,0,0,null,216,0,0,0,0,null,216,0,0,0,0,null,216,0,0,0,0,null,216,0,0,0,0]
[217,0,0,0,0,null,217,0,0,0,0,null,217,0,0,0,0,null,217,0,0,0,0,null,217,0,0,0,0,null,217,0,0,0,0,null,217,0,0,0,0,null,217,0,0,0,0,null,217,0,0,0,0,null,217,0,0,0,0,null,217,0,0,0,0,null,217,0,0,0,0]
[218,0,0,0,0,null,218,0,0,0,0,null,218,0,0,0,0,null,218,0,0,0,0,null,218,0,0,0,0,null,218,0,0,0,0,null,218,0,0,0,0,null,218,0,0,0,0,null,218,0,0,0,0,null,218,0,0,0,0,null,218,0,0,0,0,null,218,0,0,0,0]
[219,0,0,0,0,null,219,0,0,0,0,null,219,0,0,0,0,null,219,0,0,0,0,null,219,0,0,0,0,null,219,0,0,0,0,null,219,0,0,0,0,null,219,0,0,0,0,null,219,0,0,0,0,null,219,0,0,0,0,null,219,0,0,0,0,null,219,0,0,0,0]
[220,0,0,0,0,null,220,0,0,0,0,null,220,0,0,0,0,null,220,0,0,0,0,null,220,0,0,0,0,null,220,0,0,0,0,null,220,0,0,0,0,null,220,0,0,0,0,null,220,0,0,0,0,null,220,0,0,0,0,null,220,0,0,0,0,null,220,0,0,0,0]
[221,0,0,0,0,null,221,0,0,0,0,null,221,0,0,0,0,null,221,0,0,0,0,null,221,0,0,0,0,null,221,0,0,0,0,null,221,0,0,0,0,null,221,0,0,0,0,null,221,0,0,0,0,null,221,0,0,0,0,null,221,0,0,0,0,null,221,0,0,0,0]
[222,0,0,0,0,null,222,0,0,0,0,null,222,0,0,0,0,null,222,0,0,0,0,null,222,0,0,0,0,null,222,0,0,0,0,null,222,0,0,0,0,null,222,0,0,0,0,null,222,0,0,0,0,null,222,0,0,0,0,null,222,0,0,0,0,null,222,0,0,0,0]
[223,0,0,0,0,null,223,0,0,0,0,null,223,0,0,0,0,null,223,0,0,0,0,null,223,0,0,0,0,null,223,0,0,0,0,null,223,0,0,0,0,null,223,0,0,0,0,null,223,0,0,0,0,null,223,0,0,0,0,null,223,0,0,0,0,null,223,0,0,0,0]
[224,0,0,0,0,null,224,0,0,0,0,null,224,0,0,0,0,null,224,0,0,0,0,null,224,0,0,0,0,null,224,0,0,0,0,null,224,0,0,0,0,null,224,0,0,0,0,null,224,0,0,0,0,null,224,0,0,0,0,null,224,0,0,0,0,null,224,0,0,0,0]
[225,0,0,0,0,null,225,0,0,0,0,null,225,0,0,0,0,null,225,0,0,0,0,null,225,0,0,0,0,null,225,0,0,0,0,null,225,0,0,0,0,null,225,0,0,0,0,null,225,0,0,0,0,null,225,0,0,0,0,null,225,0,0,0,0,null,225,0,0,0,0]
[226,0,0,0,0,null,226,0,0,0,0,null,226,0,0,0,0,null,226,0,0,0,0,null,226,0,0,0,0,null,226,0,0,0,0,null,226,0,0,0,0,null,226,0,0,0,0,null,226,0,0,0,0,null,226,0,0,0,0,null,226,0,0,0,0,null,226,0,0,0,0]
[227,0,0,0,0,null,227,0,0,0,0,null,227,0,0,0,0,null,227,0,0,0,0,null,227,0,0,0,0,null,227,0,0,0,0,null,227,0,0,0,0,null,227,0,0,0,0,null,227,0,0,0,0,null,227,0,0,0,0,null,227,0,0,0,0,null,227,0,0,0,0]
[228,0,0,0,0,null,228,0,0,0,0,null,228,0,0,0,0,null,228,0,0,0,0,null,228,0,0,0,0,null,228,0,0,0,0,null,228,0,0,0,0,null,228,0,0,0,0,null,228,0,0,0,0,null,228,0,0,0,0,null,228,0,0,0,0,null,228,0,0,0,0]
[229,0,0,0,0,null,229,0,0,0,0,null,229,0,0,0,0,null,229,0,0,0,0,null,229,0,0,0,0,null,229,0,0,0,0,null,229,0,0,0,0,null,229,0,0,0,0,null,229,0,0,0,0,null,229,0,0,0,0,null,229,0,0,0,0,null,229,0,0,0,0]
[230,0,0,0,0,null,230,0,0,0,0,null,230,0,0,0,0,null,230,0,0,0,0,null,230,0,0,0,0,null,230,0,0,0,0,null,230,0,0,0,0,null,230,0,0,0,0,null,230,0,0,0,0,null,230,0,0,0,0,null,230,0,0,0,0,null,230,0,0,0,0]
[231,0,0,0,0,null,231,0,0,0,0,null,231,0,0,0,0,null,231,0,0,0,0,null,231,0,0,0,0,null,231,0,0,0,0,null,231,0,0,0,0,null,231,0,0,0,0,null,231,0,0,0,0,null,231,0,0,0,0,null,231,0,0,0,0,null,231,0,0,0,0]
[232,0,0,0,0,null,232,0,0,0,0,null,232,0,0,0,0,null,232,0,0,0,0,null,232,0,0,0,0,null,232,0,0,0,0,null,232,0,0,0,0,null,232,0,0,0,0,null,232,0,0,0,0,null,232,0,0,0,0,null,232,0,0,0,0,null,232,0,0,0,0]
[233,0,0,0,0,null,233,0,0,0,0,null,233,0,0,0,0,null,233,0,0,0,0,null,233,0,0,0,0,null,233,0,0,0,0,null,233,0,0,0,0,null,233,0,0,0,0,null,233,0,0,0,0,null,233,0,0,0,0,null,233,0,0,0,0,null,233,0,0,0,0]
[234,0,0,0,0,null,234,0,0,0,0,null,234,0,0,0,0,null,234,0,0,0,0,null,234,0,0,0,0,null,234,0,0,0,0,null,234,0,0,0,0,null,234,0,0,0,0,null,234,0,0,0,0,null,234,0,0,0,0,null,234,0,0,0,0,null,234,0,0,0,0]
[235,0,0,0,0,null,235,0,0,0,0,null,235,0,0,0,0,null,235,0,0,0,0,null,235,0,0,0,0,null,235,0,0,0,0,null,235,0,0,0,0,null,235,0,0,0,0,null,235,0,0,0,0,null,235,0,0,0,0,null,235,0,0,0,0,null,235,0,0,0,0]
[236,0,0,0,0,null,236,0,0,0,0,null,236,0,0,0,0,null,236,0,0,0,0,null,236,0,0,0,0,null,236,0,0,0,0,null,236,0,0,0,0,null,236,0,0,0,0,null,236,0,0,0,0,null,236,0,0,0,0,null,236,0,0,0,0,null,236,0,0,0,0]
[237,0,0,0,0,null,237,0,0,0,0,null,237,0,0,0,0,null,237,0,0,0,0,null,237,0,0,0,0,null,237,0,0,0,0,null,237,0,0,0,0,null,237,0,0,0,0,null,237,0,0,0,0,null,237,0,0,0,0,null,237,0,0,0,0,null,237,0,0,0,0]
[238,0,0,0,0,null,238,0,0,0,0,null,238,0,0,0,0,null,238,0,0,0,0,null,238,0,0,0,0,null,238,0,0,0,0,null,238,0,0,0,0,null,238,0,0,0,0,null,238,0,0,0,0,null,238,0,0,0,0,null,238,0,0,0,0,null,238,0,0,0,0]
[239,0,0,0,0,null,239,0,0,0,0,null,239,0,0,0,0,null,239,0,0,0,0,null,239,0,0,0,0,null,239,0,0,0,0,null,239,0,0,0,0,null,239,0,0,0,0,null,239,0,0,0,0,null,239,0,0,0,0,null,239,0,0,0,0,null,239,0,0,0,0]
[240,0,0,0,0,null,240,0,0,0,0,null,240,0,0,0,0,null,240,0,0,0,0,null,240,0,0,0,0,null,240,0,0,0,0,null,240,0,0,0,0,null,240,0,0,0,0,null,240,0,0,0,0,null,240,0,0,0,0,null,240,0,0,0,0,null,240,0,0,0,0]
[241,0,0,0,0,null,241,0,0,0,0,null,241,0,0,0,0,null,241,0,0,0,0,null,241,0,0,0,0,null,241,0,0,0,0,null,241,0,0,0,0,null,241,0,0,0,0,null,241,0,0,0,0,null,241,0,0,0,0,null,241,0,0,0,0,null,241,0,0,0,0]
[242,0,0,0,0,null,242,0,0,0,0,null,242,0,0,0,0,null,242,0,0,0,0,null,242,0,0,0,0,null,242,0,0,0,0,null,242,0,0,0,0,null,242,0,0,0,0,null,242,0,0,0,0,null,242,0,0,0,0,null,242,0,0,0,0,null,242,0,0,0,0]
[243,0,0,0,0,null,243,0,0,0,0,null,243,0,0,0,0,null,243,0,0,0,0,null,243,0,0,0,0,null,243,0,0,0,0,null,243,0,0,0,0,null,243,0,0,0,0,null,243,0,0,0,0,null,243,0,0,0,0,null,243,0,0,0,0,null,243,0,0,0,0]
[244,0,0,0,0,null,244,0,0,0,0,null,244,0,0,0,0,null,244,0,0,0,0,null,244,0,0,0,0,null,244,0,0,0,0,null,244,0,0,0,0,null,244,0,0,0,0,null,244,0,0,0,0,null,244,0,0,0,0,null,244,0,0,0,0,null,244,0,0,0,0]
[245,0,0,0,0,null,245,0,0,0,0,null,245,0,0,0,0,null,245,0,0,0,0,null,245,0,0,0,0,null,245,0,0,0,0,null,245,0,0,0,0,null,245,0,0,0,0,null,245,0,0,0,0,null,245,0,0,0,0,null,245,0,0,0,0,null,245,0,0,0,0]
[246,0,0,0,0,null,246,0,0,0,0,null,246,0,0,0,0,null,246,0,0,0,0,null,246,0,0,0,0,null,246,0,0,0,0,null,246,0,0,0,0,null,246,0,0,0,0,null,246,0,0,0,0,null,246,0,0,0,0,null,246,0,0,0,0,null,246,0,0,0,0]
[247,0,0,0,0,null,247,0,0,0,0,null,247,0,0,0,0,null,247,0,0,0,0,null,247,0,0,0,0,null,247,0,0,0,0,null,247,0,0,0,0,null,247,0,0,0,0,null,247,0,0,0,0,null,247,0,0,0,0,null,247,0,0,0,0,null,247,0,0,0,0]
[248,0,0,0,0,null,248,0,0,0,0,null,248,0,0,0,0,null,248,0,0,0,0,null,248,0,0,0,0,null,248,0,0,0,0,null,248,0,0,0,0,null,248,0,0,0,0,null,248,0,0,0,0,null,248,0,0,0,0,null,248,0,0,0,0,null,248,0,0,0,0]
[249,{"$f":"E258","v":0},{"$f":"B259*$D$6","v":0},{"$f":"IF((E258)>0,$D$7,0)","v":0},{"$f":"IF((B259+C259-D259)>0,B259+C259-D259,0)","v":0},null,249,{"$f":"K258","v":0},{"$f":"H259*$J$6","v":0},{"$f":"IF((K258)>0,IF(E258=0,$J$7+$D$7,$J$7),0)","v":0},{"$f":"IF((H259+I259-J259)>0,H259+I259-J259,0)","v":0},null,249,{"$f":"Q258","v":0},{"$f":"N259*$P$6","v":0},{"$f":"IF((Q258)>0,IF(K258=0,$P$7+$J$7+$D$7,$P$7),0)","v":0},{"$f":"IF((N259+O259-P259)>0,N259+O259-P259,0)","v":0},null,249,{"$f":"W258","v":0},{"$f":"T259*$V$6","v":0},{"$f":"IF((W258)>0,IF(Q258=0,$P$7+$J$7+$D$7+$V$7,$V$7),0)","v":0},{"$f":"IF((T259+U259-V259)>0,T259+U259-V259,0)","v":0},null,249,{"$f":"AC258","v":0},{"$f":"Z259*$AB$6","v":0},{"$f":"IF((AC258)>0,IF(W258=0,$AB$7+$V$7+$P$7+$J$7+$D$7,$AB$7),0)","v":0},{"$f":"IF((Z259+AA259-AB259)>0,Z259+AA259-AB259,0)","v":0},null,249,{"$f":"AI258","v":0},{"$f":"AF259*$AH$6","v":0},{"$f":"IF((AI258)>0,IF(AC258=0,$AH$7+$AB$7+$V$7+$P$7+$J$7+$D$7,$AH$7),0)","v":0},{"$f":"IF((AF259+AG259-AH259)>0,AF259+AG259-AH259,0)","v":0},null,249,{"$f":"AO258","v":0},{"$f":"AL259*$AN$6","v":0},{"$f":"IF((AO258)>0,IF(AI258=0,$AN$7+$AH$7+$AB$7+$V$7+$P$7+$J$7+$D$7,$AN$7),0)","v":0},{"$f":"IF((AL259+AM259-AN259)>0,AL259+AM259-AN259,0)","v":0},null,249,{"$f":"AU258","v":0},{"$f":"AR259*$AT$6","v":0},{"$f":"IF((AU258)>0,IF(AO258=0,$AT$7+$AN$7+$AH$7+$AB$7+$V$7+$P$7+$J$7+$D$7,$AT$7),0)","v":0},{"$f":"IF((AR259+AS259-AT259)>0,AR259+AS259-AT259,0)","v":0},null,249,{"$f":"BA258","v":0},{"$f":"AX259*$AZ$6","v":0},{"$f":"IF((BA258)>0,IF(AU258=0,$AZ$7+$AT$7+$AN$7+$AH$7+$AB$7+$V$7+$P$7+$J$7+$D$7,$AZ$7),0)","v":0},{"$f":"IF((AX259+AY259-AZ259)>0,AX259+AY259-AZ259,0)","v":0},null,249,{"$f":"BG258","v":0},{"$f":"BD259*$BF$6","v":0},{"$f":"IF((BG258)>0,IF(BA258=0,$BF$7+$AZ$7+$AT$7+$AN$7+$AH$7+$AB$7+$V$7+$P$7+$J$7+$D$7,$BF$7),0)","v":0},{"$f":"IF((BD259+BE259-BF259)>0,BD259+BE259-BF259,0)","v":0},null,249,{"$f":"BM258","v":0},{"$f":"BJ259*$BL$6","v":0},{"$f":"IF((BM258)>0,IF(BG258=0,$BL$7+$BF$7+$AZ$7+$AT$7+$AN$7+$AH$7+$AB$7+$V$7+$P$7+$J$7+$D$7,$BL$7),0)","v":0},{"$f":"IF((BJ259+BK259-BL259)>0,BJ259+BK259-BL259,0)","v":0},null,249,{"$f":"BS258","v":0},{"$f":"BP259*$BR$6","v":0},{"$f":"IF((BS258)>0,IF(BM258=0,$BR$7+$BL$7+$BF$7+$AZ$7+$AT$7+$AN$7+$AH$7+$AB$7+$V$7+$P$7+$J$7+$D$7,$BR$7),0)","v":0},{"$f":"IF((BP259+BQ259-BR259)>0,BP259+BQ259-BR259,0)","v":0}]
[250,0,0,0,0,null,250,0,0,0,0,null,250,0,0,0,0,null,250,0,0,0,0,null,250,0,0,0,0,null,250,0,0,0,0,null,250,0,0,0,0,null,250,0,0,0,0,null,250,0,0,0,0,null,250,0,0,0,0,null,250,0,0,0,0,null,250,0,0,0,0]
[251,0,0,0,0,null,251,0,0,0,0,null,251,0,0,0,0,null,251,0,0,0,0,null,251,0,0,0,0,null,251,0,0,0,0,null,251,0,0,0,0,null,251,0,0,0,0,null,251,0,0,0,0,null,251,0,0,0,0,null,251,0,0,0,0,null,251,0,0,0,0]
[252,0,0,0,0,null,252,0,0,0,0,null,252,0,0,0,0,null,252,0,0,0,0,null,252,0,0,0,0,null,252,0,0,0,0,null,252,0,0,0,0,null,252,0,0,0,0,null,252,0,0,0,0,null,252,0,0,0,0,null,252,0,0,0,0,null,252,0,0,0,0]
[253,0,0,0,0,null,253,0,0,0,0,null,253,0,0,0,0,null,253,0,0,0,0,null,253,0,0,0,0,null,253,0,0,0,0,null,253,0,0,0,0,null,253,0,0,0,0,null,253,0,0,0,0,null,253,0,0,0,0,null,253,0,0,0,0,null,253,0,0,0,0]
[254,0,0,0,0,null,254,0,0,0,0,null,254,0,0,0,0,null,254,0,0,0,0,null,254,0,0,0,0,null,254,0,0,0,0,null,254,0,0,0,0,null,254,0,0,0,0,null,254,0,0,0,0,null,254,0,0,0,0,null,254,0,0,0,0,null,254,0,0,0,0]
[255,0,0,0,0,null,255,0,0,0,0,null,255,0,0,0,0,null,255,0,0,0,0,null,255,0,0,0,0,null,255,0,0,0,0,null,255,0,0,0,0,null,255,0,0,0,0,null,255,0,0,0,0,null,255,0,0,0,0,null,255,0,0,0,0,null,255,0,0,0,0]
[256,0,0,0,0,null,256,0,0,0,0,null,256,0,0,0,0,null,256,0,0,0,0,null,256,0,0,0,0,null,256,0,0,0,0,null,256,0,0,0,0,null,256,0,0,0,0,null,256,0,0,0,0,null,256,0,0,0,0,null,256,0,0,0,0,null,256,0,0,0,0]
[257,0,0,0,0,null,257,0,0,0,0,null,257,0,0,0,0,null,257,0,0,0,0,null,257,0,0,0,0,null,257,0,0,0,0,null,257,0,0,0,0,null,257,0,0,0,0,null,257,0,0,0,0,null,257,0,0,0,0,null,257,0,0,0,0,null,257,0,0,0,0]
[258,0,0,0,0,null,258,0,0,0,0,null,258,0,0,0,0,null,258,0,0,0,0,null,258,0,0,0,0,null,258,0,0,0,0,null,258,0,0,0,0,null,258,0,0,0,0,null,258,0,0,0,0,null,258,0,0,0,0,null,258,0,0,0,0,null,258,0,0,0,0]
[259,0,0,0,0,null,259,0,0,0,0,null,259,0,0,0,0,null,259,0,0,0,0,null,259,0,0,0,0,null,259,0,0,0,0,null,259,0,0,0,0,null,259,0,0,0,0,null,259,0,0,0,0,null,259,0,0,0,0,null,259,0,0,0,0,null,259,0,0,0,0]
[260,0,0,0,0,null,260,0,0,0,0,null,260,0,0,0,0,null,260,0,0,0,0,null,260,0,0,0,0,null,260,0,0,0,0,null,260,0,0,0,0,null,260,0,0,0,0,null,260,0,0,0,0,null,260,0,0,0,0,null,260,0,0,0,0,null,260,0,0,0,0]
[261,0,0,0,0,null,261,0,0,0,0,null,261,0,0,0,0,null,261,0,0,0,0,null,261,0,0,0,0,null,261,0,0,0,0,null,261,0,0,0,0,null,261,0,0,0,0,null,261,0,0,0,0,null,261,0,0,0,0,null,261,0,0,0,0,null,261,0,0,0,0]
[262,0,0,0,0,null,262,0,0,0,0,null,262,0,0,0,0,null,262,0,0,0,0,null,262,0,0,0,0,null,262,0,0,0,0,null,262,0,0,0,0,null,262,0,0,0,0,null,262,0,0,0,0,null,262,0,0,0,0,null,262,0,0,0,0,null,262,0,0,0,0]
[263,0,0,0,0,null,263,0,0,0,0,null,263,0,0,0,0,null,263,0,0,0,0,null,263,0,0,0,0,null,263,0,0,0,0,null,263,0,0,0,0,null,263,0,0,0,0,null,263,0,0,0,0,null,263,0,0,0,0,null,263,0,0,0,0,null,263,0,0,0,0]
[264,0,0,0,0,null,264,0,0,0,0,null,264,0,0,0,0,null,264,0,0,0,0,null,264,0,0,0,0,null,264,0,0,0,0,null,264,0,0,0,0,null,264,0,0,0,0,null,264,0,0,0,0,null,264,0,0,0,0,null,264,0,0,0,0,null,264,0,0,0,0]
[265,0,0,0,0,null,265,0,0,0,0,null,265,0,0,0,0,null,265,0,0,0,0,null,265,0,0,0,0,null,265,0,0,0,0,null,265,0,0,0,0,null,265,0,0,0,0,null,265,0,0,0,0,null,265,0,0,0,0,null,265,0,0,0,0,null,265,0,0,0,0]
[266,0,0,0,0,null,266,0,0,0,0,null,266,0,0,0,0,null,266,0,0,0,0,null,266,0,0,0,0,null,266,0,0,0,0,null,266,0,0,0,0,null,266,0,0,0,0,null,266,0,0,0,0,null,266,0,0,0,0,null,266,0,0,0,0,null,266,0,0,0,0]
[267,0,0,0,0,null,267,0,0,0,0,null,267,0,0,0,0,null,267,0,0,0,0,null,267,0,0,0,0,null,267,0,0,0,0,null,267,0,0,0,0,null,267,0,0,0,0,null,267,0,0,0,0,null,267,0,0,0,0,null,267,0,0,0,0,null,267,0,0,0,0]
[268,0,0,0,0,null,268,0,0,0,0,null,268,0,0,0,0,null,268,0,0,0,0,null,268,0,0,0,0,null,268,0,0,0,0,null,268,0,0,0,0,null,268,0,0,0,0,null,268,0,0,0,0,null,268,0,0,0,0,null,268,0,0,0,0,null,268,0,0,0,0]
[269,0,0,0,0,null,269,0,0,0,0,null,269,0,0,0,0,null,269,0,0,0,0,null,269,0,0,0,0,null,269,0,0,0,0,null,269,0,0,0,0,null,269,0,0,0,0,null,269,0,0,0,0,null,269,0,0,0,0,null,269,0,0,0,0,null,269,0,0,0,0]
[270,0,0,0,0,null,270,0,0,0,0,null,270,0,0,0,0,null,270,0,0,0,0,null,270,0,0,0,0,null,270,0,0,0,0,null,270,0,0,0,0,null,270,0,0,0,0,null,270,0,0,0,0,null,270,0,0,0,0,null,270,0,0,0,0,null,270,0,0,0,0]
[271,0,0,0,0,null,271,0,0,0,0,null,271,0,0,0,0,null,271,0,0,0,0,null,271,0,0,0,0,null,271,0,0,0,0,null,271,0,0,0,0,null,271,0,0,0,0,null,271,0,0,0,0,null,271,0,0,0,0,null,271,0,0,0,0,null,271,0,0,0,0]
[272,0,0,0,0,null,272,0,0,0,0,null,272,0,0,0,0,null,272,0,0,0,0,null,272,0,0,0,0,null,272,0,0,0,0,null,272,0,0,0,0,null,272,0,0,0,0,null,272,0,0,0,0,null,272,0,0,0,0,null,272,0,0,0,0,null,272,0,0,0,0]
[273,0,0,0,0,null,273,0,0,0,0,null,273,0,0,0,0,null,273,0,0,0,0,null,273,0,0,0,0,null,273,0,0,0,0,null,273,0,0,0,0,null,273,0,0,0,0,null,273,0,0,0,0,null,273,0,0,0,0,null,273,0,0,0,0,null,273,0,0,0,0]
[274,0,0,0,0,null,274,0,0,0,0,null,274,0,0,0,0,null,274,0,0,0,0,null,274,0,0,0,0,null,274,0,0,0,0,null,274,0,0,0,0,null,274,0,0,0,0,null,274,0,0,0,0,null,274,0,0,0,0,null,274,0,0,0,0,null,274,0,0,0,0]
[275,0,0,0,0,null,275,0,0,0,0,null,275,0,0,0,0,null,275,0,0,0,0,null,275,0,0,0,0,null,275,0,0,0,0,null,275,0,0,0,0,null,275,0,0,0,0,null,275,0,0,0,0,null,275,0,0,0,0,null,275,0,0,0,0,null,275,0,0,0,0]
[276,0,0,0,0,null,276,0,0,0,0,null,276,0,0,0,0,null,276,0,0,0,0,null,276,0,0,0,0,null,276,0,0,0,0,null,276,0,0,0,0,null,276,0,0,0,0,null,276,0,0,0,0,null,276,0,0,0,0,null,276,0,0,0,0,null,276,0,0,0,0]
[277,0,0,0,0,null,277,0,0,0,0,null,277,0,0,0,0,null,277,0,0,0,0,null,277,0,0,0,0,null,277,0,0,0,0,null,277,0,0,0,0,null,277,0,0,0,0,null,277,0,0,0,0,null,277,0,0,0,0,null,277,0,0,0,0,null,277,0,0,0,0]
[278,0,0,0,0,null,278,0,0,0,0,null,278,0,0,0,0,null,278,0,0,0,0,null,278,0,0,0,0,null,278,0,0,0,0,null,278,0,0,0,0,null,278,0,0,0,0,null,278,0,0,0,0,null,278,0,0,0,0,null,278,0,0,0,0,null,278,0,0,0,0]
[279,0,0,0,0,null,279,0,0,0,0,null,279,0,0,0,0,null,279,0,0,0,0,null,279,0,0,0,0,null,279,0,0,0,0,null,279,0,0,0,0,null,279,0,0,0,0,null,279,0,0,0,0,null,279,0,0,0,0,null,279,0,0,0,0,null,279,0,0,0,0]
[280,0,0,0,0,null,280,0,0,0,0,null,280,0,0,0,0,null,280,0,0,0,0,null,280,0,0,0,0,null,280,0,0,0,0,null,280,0,0,0,0,null,280,0,0,0,0,null,280,0,0,0,0,null,280,0,0,0,0,null,280,0,0,0,0,null,280,0,0,0,0]
[281,0,0,0,0,null,281,0,0,0,0,null,281,0,0,0,0,null,281,0,0,0,0,null,281,0,0,0,0,null,281,0,0,0,0,null,281,0,0,0,0,null,281,0,0,0,0,null,281,0,0,0,0,null,281,0,0,0,0,null,281,0,0,0,0,null,281,0,0,0,0]
[282,0,0,0,0,null,282,0,0,0,0,null,282,0,0,0,0,null,282,0,0,0,0,null,282,0,0,0,0,null,282,0,0,0,0,null,282,0,0,0,0,null,282,0,0,0,0,null,282,0,0,0,0,null,282,0,0,0,0,null,282,0,0,0,0,null,282,0,0,0,0]
[283,0,0,0,0,null,283,0,0,0,0,null,283,0,0,0,0,null,283,0,0,0,0,null,283,0,0,0,0,null,283,0,0,0,0,null,283,0,0,0,0,null,283,0,0,0,0,null,283,0,0,0,0,null,283,0,0,0,0,null,283,0,0,0,0,null,283,0,0,0,0]
[284,0,0,0,0,null,284,0,0,0,0,null,284,0,0,0,0,null,284,0,0,0,0,null,284,0,0,0,0,null,284,0,0,0,0,null,284,0,0,0,0,null,284,0,0,0,0,null,284,0,0,0,0,null,284,0,0,0,0,null,284,0,0,0,0,null,284,0,0,0,0]
[285,0,0,0,0,null,285,0,0,0,0,null,285,0,0,0,0,null,285,0,0,0,0,null,285,0,0,0,0,null,285,0,0,0,0,null,285,0,0,0,0,null,285,0,0,0,0,null,285,0,0,0,0,null,285,0,0,0,0,null,285,0,0,0,0,null,285,0,0,0,0]
[286,0,0,0,0,null,286,0,0,0,0,null,286,0,0,0,0,null,286,0,0,0,0,null,286,0,0,0,0,null,286,0,0,0,0,null,286,0,0,0,0,null,286,0,0,0,0,null,286,0,0,0,0,null,286,0,0,0,0,null,286,0,0,0,0,null,286,0,0,0,0]
[287,0,0,0,0,null,287,0,0,0,0,null,287,0,0,0,0,null,287,0,0,0,0,null,287,0,0,0,0,null,287,0,0,0,0,null,287,0,0,0,0,null,287,0,0,0,0,null,287,0,0,0,0,null,287,0,0,0,0,null,287,0,0,0,0,null,287,0,0,0,0]
[288,0,0,0,0,null,288,0,0,0,0,null,288,0,0,0,0,null,288,0,0,0,0,null,288,0,0,0,0,null,288,0,0,0,0,null,288,0,0,0,0,null,288,0,0,0,0,null,288,0,0,0,0,null,288,0,0,0,0,null,288,0,0,0,0,null,288,0,0,0,0]
[289,0,0,0,0,null,289,0,0,0,0,null,289,0,0,0,0,null,289,0,0,0,0,null,289,0,0,0,0,null,289,0,0,0,0,null,289,0,0,0,0,null,289,0,0,0,0,null,289,0,0,0,0,null,289,0,0,0,0,null,289,0,0,0,0,null,289,0,0,0,0]
[290,0,0,0,0,null,290,0,0,0,0,null,290,0,0,0,0,null,290,0,0,0,0,null,290,0,0,0,0,null,290,0,0,0,0,null,290,0,0,0,0,null,290,0,0,0,0,null,290,0,0,0,0,null,290,0,0,0,0,null,290,0,0,0,0,null,290,0,0,0,0]
[291,0,0,0,0,null,291,0,0,0,0,null,291,0,0,0,0,null,291,0,0,0,0,null,291,0,0,0,0,null,291,0,0,0,0,null,291,0,0,0,0,null,291,0,0,0,0,null,291,0,0,0,0,null,291,0,0,0,0,null,291,0,0,0,0,null,291,0,0,0,0]
[292,0,0,0,0,null,292,0,0,0,0,null,292,0,0,0,0,null,292,0,0,0,0,null,292,0,0,0,0,null,292,0,0,0,0,null,292,0,0,0,0,null,292,0,0,0,0,null,292,0,0,0,0,null,292,0,0,0,0,null,292,0,0,0,0,null,292,0,0,0,0]
[293,0,0,0,0,null,293,0,0,0,0,null,293,0,0,0,0,null,293,0,0,0,0,null,293,0,0,0,0,null,293,0,0,0,0,null,293,0,0,0,0,null,293,0,0,0,0,null,293,0,0,0,0,null,293,0,0,0,0,null,293,0,0,0,0,null,293,0,0,0,0]
[294,0,0,0,0,null,294,0,0,0,0,null,294,0,0,0,0,null,294,0,0,0,0,null,294,0,0,0,0,null,294,0,0,0,0,null,294,0,0,0,0,null,294,0,0,0,0,null,294,0,0,0,0,null,294,0,0,0,0,null,294,0,0,0,0,null,294,0,0,0,0]
[295,0,0,0,0,null,295,0,0,0,0,null,295,0,0,0,0,null,295,0,0,0,0,null,295,0,0,0,0,null,295,0,0,0,0,null,295,0,0,0,0,null,295,0,0,0,0,null,295,0,0,0,0,null,295,0,0,0,0,null,295,0,0,0,0,null,295,0,0,0,0]
[296,0,0,0,0,null,296,0,0,0,0,null,296,0,0,0,0,null,296,0,0,0,0,null,296,0,0,0,0,null,296,0,0,0,0,null,296,0,0,0,0,null,296,0,0,0,0,null,296,0,0,0,0,null,296,0,0,0,0,null,296,0,0,0,0,null,296,0,0,0,0]
[297,0,0,0,0,null,297,0,0,0,0,null,297,0,0,0,0,null,297,0,0,0,0,null,297,0,0,0,0,null,297,0,0,0,0,null,297,0,0,0,0,null,297,0,0,0,0,null,297,0,0,0,0,null,297,0,0,0,0,null,297,0,0,0,0,null,297,0,0,0,0]
[298,0,0,0,0,null,298,0,0,0,0,null,298,0,0,0,0,null,298,0,0,0,0,null,298,0,0,0,0,null,298,0,0,0,0,null,298,0,0,0,0,null,298,0,0,0,0,null,298,0,0,0,0,null,298,0,0,0,0,null,298,0,0,0,0,null,298,0,0,0,0]
[299,0,0,0,0,null,299,0,0,0,0,null,299,0,0,0,0,null,299,0,0,0,0,null,299,0,0,0,0,null,299,0,0,0,0,null,299,0,0,0,0,null,299,0,0,0,0,null,299,0,0,0,0,null,299,0,0,0,0,null,299,0,0,0,0,null,299,0,0,0,0]
[300,0,0,0,0,null,300,0,0,0,0,null,300,0,0,0,0,null,300,0,0,0,0,null,300,0,0,0,0,null,300,0,0,0,0,null,300,0,0,0,0,null,300,0,0,0,0,null,300,0,0,0,0,null,300,0,0,0,0,null,300,0,0,0,0,null,300,0,0,0,0]
[301,0,0,0,0,null,301,0,0,0,0,null,301,0,0,0,0,null,301,0,0,0,0,null,301,0,0,0,0,null,301,0,0,0,0,null,301,0,0,0,0,null,301,0,0,0,0,null,301,0,0,0,0,null,301,0,0,0,0,null,301,0,0,0,0,null,301,0,0,0,0]
[302,0,0,0,0,null,302,0,0,0,0,null,302,0,0,0,0,null,302,0,0,0,0,null,302,0,0,0,0,null,302,0,0,0,0,null,302,0,0,0,0,null,302,0,0,0,0,null,302,0,0,0,0,null,302,0,0,0,0,null,302,0,0,0,0,null,302,0,0,0,0]
[303,0,0,0,0,null,303,0,0,0,0,null,303,0,0,0,0,null,303,0,0,0,0,null,303,0,0,0,0,null,303,0,0,0,0,null,303,0,0,0,0,null,303,0,0,0,0,null,303,0,0,0,0,null,303,0,0,0,0,null,303,0,0,0,0,null,303,0,0,0,0]
[304,0,0,0,0,null,304,0,0,0,0,null,304,0,0,0,0,null,304,0,0,0,0,null,304,0,0,0,0,null,304,0,0,0,0,null,304,0,0,0,0,null,304,0,0,0,0,null,304,0,0,0,0,null,304,0,0,0,0,null,304,0,0,0,0,null,304,0,0,0,0]
[305,0,0,0,0,null,305,0,0,0,0,null,305,0,0,0,0,null,305,0,0,0,0,null,305,0,0,0,0,null,305,0,0,0,0,null,305,0,0,0,0,null,305,0,0,0,0,null,305,0,0,0,0,null,305,0,0,0,0,null,305,0,0,0,0,null,305,0,0,0,0]
[306,0,0,0,0,null,306,0,0,0,0,null,306,0,0,0,0,null,306,0,0,0,0,null,306,0,0,0,0,null,306,0,0,0,0,null,306,0,0,0,0,null,306,0,0,0,0,null,306,0,0,0,0,null,306,0,0,0,0,null,306,0,0,0,0,null,306,0,0,0,0]
[307,0,0,0,0,null,307,0,0,0,0,null,307,0,0,0,0,null,307,0,0,0,0,null,307,0,0,0,0,null,307,0,0,0,0,null,307,0,0,0,0,null,307,0,0,0,0,null,307,0,0,0,0,null,307,0,0,0,0,null,307,0,0,0,0,null,307,0,0,0,0]
[308,0,0,0,0,null,308,0,0,0,0,null,308,0,0,0,0,null,308,0,0,0,0,null,308,0,0,0,0,null,308,0,0,0,0,null,308,0,0,0,0,null,308,0,0,0,0,null,308,0,0,0,0,null,308,0,0,0,0,null,308,0,0,0,0,null,308,0,0,0,0]
[309,0,0,0,0,null,309,0,0,0,0,null,309,0,0,0,0,null,309,0,0,0,0,null,309,0,0,0,0,null,309,0,0,0,0,null,309,0,0,0,0,null,309,0,0,0,0,null,309,0,0,0,0,null,309,0,0,0,0,null,309,0,0,0,0,null,309,0,0,0,0]
[310,0,0,0,0,null,310,0,0,0,0,null,310,0,0,0,0,null,310,0,0,0,0,null,310,0,0,0,0,null,310,0,0,0,0,null,310,0,0,0,0,null,310,0,0,0,0,null,310,0,0,0,0,null,310,0,0,0,0,null,310,0,0,0,0,null,310,0,0,0,0]
[311,0,0,0,0,null,311,0,0,0,0,null,311,0,0,0,0,null,311,0,0,0,0,null,311,0,0,0,0,null,311,0,0,0,0,null,311,0,0,0,0,null,311,0,0,0,0,null,311,0,0,0,0,null,311,0,0,0,0,null,311,0,0,0,0,null,311,0,0,0,0]
[312,0,0,0,0,null,312,0,0,0,0,null,312,0,0,0,0,null,312,0,0,0,0,null,312,0,0,0,0,null,312,0,0,0,0,null,312,0,0,0,0,null,312,0,0,0,0,null,312,0,0,0,0,null,312,0,0,0,0,null,312,0,0,0,0,null,312,0,0,0,0]
[313,{"$f":"E322","v":0},{"$f":"B323*$D$6","v":0},{"$f":"IF((E322)>0,$D$7,0)","v":0},{"$f":"IF((B323+C323-D323)>0,B323+C323-D323,0)","v":0},null,313,{"$f":"K322","v":0},{"$f":"H323*$J$6","v":0},{"$f":"IF((K322)>0,IF(E322=0,$J$7+$D$7,$J$7),0)","v":0},{"$f":"IF((H323+I323-J323)>0,H323+I323-J323,0)","v":0},null,313,{"$f":"Q322","v":0},{"$f":"N323*$P$6","v":0},{"$f":"IF((Q322)>0,IF(K322=0,$P$7+$J$7+$D$7,$P$7),0)","v":0},{"$f":"IF((N323+O323-P323)>0,N323+O323-P323,0)","v":0},null,313,{"$f":"W322","v":0},{"$f":"T323*$V$6","v":0},{"$f":"IF((W322)>0,IF(Q322=0,$P$7+$J$7+$D$7+$V$7,$V$7),0)","v":0},{"$f":"IF((T323+U323-V323)>0,T323+U323-V323,0)","v":0},null,313,{"$f":"AC322","v":0},{"$f":"Z323*$AB$6","v":0},{"$f":"IF((AC322)>0,IF(W322=0,$AB$7+$V$7+$P$7+$J$7+$D$7,$AB$7),0)","v":0},{"$f":"IF((Z323+AA323-AB323)>0,Z323+AA323-AB323,0)","v":0},null,313,{"$f":"AI322","v":0},{"$f":"AF323*$AH$6","v":0},{"$f":"IF((AI322)>0,IF(AC322=0,$AH$7+$AB$7+$V$7+$P$7+$J$7+$D$7,$AH$7),0)","v":0},{"$f":"IF((AF323+AG323-AH323)>0,AF323+AG323-AH323,0)","v":0},null,313,{"$f":"AO322","v":0},{"$f":"AL323*$AN$6","v":0},{"$f":"IF((AO322)>0,IF(AI322=0,$AN$7+$AH$7+$AB$7+$V$7+$P$7+$J$7+$D$7,$AN$7),0)","v":0},{"$f":"IF((AL323+AM323-AN323)>0,AL323+AM323-AN323,0)","v":0},null,313,{"$f":"AU322","v":0},{"$f":"AR323*$AT$6","v":0},{"$f":"IF((AU322)>0,IF(AO322=0,$AT$7+$AN$7+$AH$7+$AB$7+$V$7+$P$7+$J$7+$D$7,$AT$7),0)","v":0},{"$f":"IF((AR323+AS323-AT323)>0,AR323+AS323-AT323,0)","v":0},null,313,{"$f":"BA322","v":0},{"$f":"AX323*$AZ$6","v":0},{"$f":"IF((BA322)>0,IF(AU322=0,$AZ$7+$AT$7+$AN$7+$AH$7+$AB$7+$V$7+$P$7+$J$7+$D$7,$AZ$7),0)","v":0},{"$f":"IF((AX323+AY323-AZ323)>0,AX323+AY323-AZ323,0)","v":0},null,313,{"$f":"BG322","v":0},{"$f":"BD323*$BF$6","v":0},{"$f":"IF((BG322)>0,IF(BA322=0,$BF$7+$AZ$7+$AT$7+$AN$7+$AH$7+$AB$7+$V$7+$P$7+$J$7+$D$7,$BF$7),0)","v":0},{"$f":"IF((BD323+BE323-BF323)>0,BD323+BE323-BF323,0)","v":0},null,313,{"$f":"BM322","v":0},{"$f":"BJ323*$BL$6","v":0},{"$f":"IF((BM322)>0,IF(BG322=0,$BL$7+$BF$7+$AZ$7+$AT$7+$AN$7+$AH$7+$AB$7+$V$7+$P$7+$J$7+$D$7,$BL$7),0)","v":0},{"$f":"IF((BJ323+BK323-BL323)>0,BJ323+BK323-BL323,0)","v":0},null,313,{"$f":"BS322","v":0},{"$f":"BP323*$BR$6","v":0},{"$f":"IF((BS322)>0,IF(BM322=0,$BR$7+$BL$7+$BF$7+$AZ$7+$AT$7+$AN$7+$AH$7+$AB$7+$V$7+$P$7+$J$7+$D$7,$BR$7),0)","v":0},{"$f":"IF((BP323+BQ323-BR323)>0,BP323+BQ323-BR323,0)","v":0}]
[314,0,0,0,0,null,314,0,0,0,0,null,314,0,0,0,0,null,314,0,0,0,0,null,314,0,0,0,0,null,314,0,0,0,0,null,314,0,0,0,0,null,314,0,0,0,0,null,314,0,0,0,0,null,314,0,0,0,0,null,314,0,0,0,0,null,314,0,0,0,0]
[315,0,0,0,0,null,315,0,0,0,0,null,315,0,0,0,0,null,315,0,0,0,0,null,315,0,0,0,0,null,315,0,0,0,0,null,315,0,0,0,0,null,315,0,0,0,0,null,315,0,0,0,0,null,315,0,0,0,0,null,315,0,0,0,0,null,315,0,0,0,0]
[316,0,0,0,0,null,316,0,0,0,0,null,316,0,0,0,0,null,316,0,0,0,0,null,316,0,0,0,0,null,316,0,0,0,0,null,316,0,0,0,0,null,316,0,0,0,0,null,316,0,0,0,0,null,316,0,0,0,0,null,316,0,0,0,0,null,316,0,0,0,0]
[317,0,0,0,0,null,317,0,0,0,0,null,317,0,0,0,0,null,317,0,0,0,0,null,317,0,0,0,0,null,317,0,0,0,0,null,317,0,0,0,0,null,317,0,0,0,0,null,317,0,0,0,0,null,317,0,0,0,0,null,317,0,0,0,0,null,317,0,0,0,0]
[318,0,0,0,0,null,318,0,0,0,0,null,318,0,0,0,0,null,318,0,0,0,0,null,318,0,0,0,0,null,318,0,0,0,0,null,318,0,0,0,0,null,318,0,0,0,0,null,318,0,0,0,0,null,318,0,0,0,0,null,318,0,0,0,0,null,318,0,0,0,0]
[319,0,0,0,0,null,319,0,0,0,0,null,319,0,0,0,0,null,319,0,0,0,0,null,319,0,0,0,0,null,319,0,0,0,0,null,319,0,0,0,0,null,319,0,0,0,0,null,319,0,0,0,0,null,319,0,0,0,0,null,319,0,0,0,0,null,319,0,0,0,0]
[320,0,0,0,0,null,320,0,0,0,0,null,320,0,0,0,0,null,320,0,0,0,0,null,320,0,0,0,0,null,320,0,0,0,0,null,320,0,0,0,0,null,320,0,0,0,0,null,320,0,0,0,0,null,320,0,0,0,0,null,320,0,0,0,0,null,320,0,0,0,0]
[321,0,0,0,0,null,321,0,0,0,0,null,321,0,0,0,0,null,321,0,0,0,0,null,321,0,0,0,0,null,321,0,0,0,0,null,321,0,0,0,0,null,321,0,0,0,0,null,321,0,0,0,0,null,321,0,0,0,0,null,321,0,0,0,0,null,321,0,0,0,0]
[322,0,0,0,0,null,322,0,0,0,0,null,322,0,0,0,0,null,322,0,0,0,0,null,322,0,0,0,0,null,322,0,0,0,0,null,322,0,0,0,0,null,322,0,0,0,0,null,322,0,0,0,0,null,322,0,0,0,0,null,322,0,0,0,0,null,322,0,0,0,0]
[323,0,0,0,0,null,323,0,0,0,0,null,323,0,0,0,0,null,323,0,0,0,0,null,323,0,0,0,0,null,323,0,0,0,0,null,323,0,0,0,0,null,323,0,0,0,0,null,323,0,0,0,0,null,323,0,0,0,0,null,323,0,0,0,0,null,323,0,0,0,0]
[324,0,0,0,0,null,324,0,0,0,0,null,324,0,0,0,0,null,324,0,0,0,0,null,324,0,0,0,0,null,324,0,0,0,0,null,324,0,0,0,0,null,324,0,0,0,0,null,324,0,0,0,0,null,324,0,0,0,0,null,324,0,0,0,0,null,324,0,0,0,0]
[325,0,0,0,0,null,325,0,0,0,0,null,325,0,0,0,0,null,325,0,0,0,0,null,325,0,0,0,0,null,325,0,0,0,0,null,325,0,0,0,0,null,325,0,0,0,0,null,325,0,0,0,0,null,325,0,0,0,0,null,325,0,0,0,0,null,325,0,0,0,0]
[326,0,0,0,0,null,326,0,0,0,0,null,326,0,0,0,0,null,326,0,0,0,0,null,326,0,0,0,0,null,326,0,0,0,0,null,326,0,0,0,0,null,326,0,0,0,0,null,326,0,0,0,0,null,326,0,0,0,0,null,326,0,0,0,0,null,326,0,0,0,0]
[327,0,0,0,0,null,327,0,0,0,0,null,327,0,0,0,0,null,327,0,0,0,0,null,327,0,0,0,0,null,327,0,0,0,0,null,327,0,0,0,0,null,327,0,0,0,0,null,327,0,0,0,0,null,327,0,0,0,0,null,327,0,0,0,0,null,327,0,0,0,0]
[328,0,0,0,0,null,328,0,0,0,0,null,328,0,0,0,0,null,328,0,0,0,0,null,328,0,0,0,0,null,328,0,0,0,0,null,328,0,0,0,0,null,328,0,0,0,0,null,328,0,0,0,0,null,328,0,0,0,0,null,328,0,0,0,0,null,328,0,0,0,0]
[329,0,0,0,0,null,329,0,0,0,0,null,329,0,0,0,0,null,329,0,0,0,0,null,329,0,0,0,0,null,329,0,0,0,0,null,329,0,0,0,0,null,329,0,0,0,0,null,329,0,0,0,0,null,329,0,0,0,0,null,329,0,0,0,0,null,329,0,0,0,0]
[330,0,0,0,0,null,330,0,0,0,0,null,330,0,0,0,0,null,330,0,0,0,0,null,330,0,0,0,0,null,330,0,0,0,0,null,330,0,0,0,0,null,330,0,0,0,0,null,330,0,0,0,0,null,330,0,0,0,0,null,330,0,0,0,0,null,330,0,0,0,0]
[331,0,0,0,0,null,331,0,0,0,0,null,331,0,0,0,0,null,331,0,0,0,0,null,331,0,0,0,0,null,331,0,0,0,0,null,331,0,0,0,0,null,331,0,0,0,0,null,331,0,0,0,0,null,331,0,0,0,0,null,331,0,0,0,0,null,331,0,0,0,0]
[332,0,0,0,0,null,332,0,0,0,0,null,332,0,0,0,0,null,332,0,0,0,0,null,332,0,0,0,0,null,332,0,0,0,0,null,332,0,0,0,0,null,332,0,0,0,0,null,332,0,0,0,0,null,332,0,0,0,0,null,332,0,0,0,0,null,332,0,0,0,0]
[333,0,0,0,0,null,333,0,0,0,0,null,333,0,0,0,0,null,333,0,0,0,0,null,333,0,0,0,0,null,333,0,0,0,0,null,333,0,0,0,0,null,333,0,0,0,0,null,333,0,0,0,0,null,333,0,0,0,0,null,333,0,0,0,0,null,333,0,0,0,0]
[334,0,0,0,0,null,334,0,0,0,0,null,334,0,0,0,0,null,334,0,0,0,0,null,334,0,0,0,0,null,334,0,0,0,0,null,334,0,0,0,0,null,334,0,0,0,0,null,334,0,0,0,0,null,334,0,0,0,0,null,334,0,0,0,0,null,334,0,0,0,0]
[335,0,0,0,0,null,335,0,0,0,0,null,335,0,0,0,0,null,335,0,0,0,0,null,335,0,0,0,0,null,335,0,0,0,0,null,335,0,0,0,0,null,335,0,0,0,0,null,335,0,0,0,0,null,335,0,0,0,0,null,335,0,0,0,0,null,335,0,0,0,0]
[336,0,0,0,0,null,336,0,0,0,0,null,336,0,0,0,0,null,336,0,0,0,0,null,336,0,0,0,0,null,336,0,0,0,0,null,336,0,0,0,0,null,336,0,0,0,0,null,336,0,0,0,0,null,336,0,0,0,0,null,336,0,0,0,0,null,336,0,0,0,0]
[337,0,0,0,0,null,337,0,0,0,0,null,337,0,0,0,0,null,337,0,0,0,0,null,337,0,0,0,0,null,337,0,0,0,0,null,337,0,0,0,0,null,337,0,0,0,0,null,337,0,0,0,0,null,337,0,0,0,0,null,337,0,0,0,0,null,337,0,0,0,0]
[338,0,0,0,0,null,338,0,0,0,0,null,338,0,0,0,0,null,338,0,0,0,0,null,338,0,0,0,0,null,338,0,0,0,0,null,338,0,0,0,0,null,338,0,0,0,0,null,338,0,0,0,0,null,338,0,0,0,0,null,338,0,0,0,0,null,338,0,0,0,0]
[339,0,0,0,0,null,339,0,0,0,0,null,339,0,0,0,0,null,339,0,0,0,0,null,339,0,0,0,0,null,339,0,0,0,0,null,339,0,0,0,0,null,339,0,0,0,0,null,339,0,0,0,0,null,339,0,0,0,0,null,339,0,0,0,0,null,339,0,0,0,0]
[340,0,0,0,0,null,340,0,0,0,0,null,340,0,0,0,0,null,340,0,0,0,0,null,340,0,0,0,0,null,340,0,0,0,0,null,340,0,0,0,0,null,340,0,0,0,0,null,340,0,0,0,0,null,340,0,0,0,0,null,340,0,0,0,0,null,340,0,0,0,0]
[341,0,0,0,0,null,341,0,0,0,0,null,341,0,0,0,0,null,341,0,0,0,0,null,341,0,0,0,0,null,341,0,0,0,0,null,341,0,0,0,0,null,341,0,0,0,0,null,341,0,0,0,0,null,341,0,0,0,0,null,341,0,0,0,0,null,341,0,0,0,0]
[342,0,0,0,0,null,342,0,0,0,0,null,342,0,0,0,0,null,342,0,0,0,0,null,342,0,0,0,0,null,342,0,0,0,0,null,342,0,0,0,0,null,342,0,0,0,0,null,342,0,0,0,0,null,342,0,0,0,0,null,342,0,0,0,0,null,342,0,0,0,0]
[343,0,0,0,0,null,343,0,0,0,0,null,343,0,0,0,0,null,343,0,0,0,0,null,343,0,0,0,0,null,343,0,0,0,0,null,343,0,0,0,0,null,343,0,0,0,0,null,343,0,0,0,0,null,343,0,0,0,0,null,343,0,0,0,0,null,343,0,0,0,0]
[344,0,0,0,0,null,344,0,0,0,0,null,344,0,0,0,0,null,344,0,0,0,0,null,344,0,0,0,0,null,344,0,0,0,0,null,344,0,0,0,0,null,344,0,0,0,0,null,344,0,0,0,0,null,344,0,0,0,0,null,344,0,0,0,0,null,344,0,0,0,0]
[345,0,0,0,0,null,345,0,0,0,0,null,345,0,0,0,0,null,345,0,0,0,0,null,345,0,0,0,0,null,345,0,0,0,0,null,345,0,0,0,0,null,345,0,0,0,0,null,345,0,0,0,0,null,345,0,0,0,0,null,345,0,0,0,0,null,345,0,0,0,0]
[346,0,0,0,0,null,346,0,0,0,0,null,346,0,0,0,0,null,346,0,0,0,0,null,346,0,0,0,0,null,346,0,0,0,0,null,346,0,0,0,0,null,346,0,0,0,0,null,346,0,0,0,0,null,346,0,0,0,0,null,346,0,0,0,0,null,346,0,0,0,0]
[347,0,0,0,0,null,347,0,0,0,0,null,347,0,0,0,0,null,347,0,0,0,0,null,347,0,0,0,0,null,347,0,0,0,0,null,347,0,0,0,0,null,347,0,0,0,0,null,347,0,0,0,0,null,347,0,0,0,0,null,347,0,0,0,0,null,347,0,0,0,0]
[348,0,0,0,0,null,348,0,0,0,0,null,348,0,0,0,0,null,348,0,0,0,0,null,348,0,0,0,0,null,348,0,0,0,0,null,348,0,0,0,0,null,348,0,0,0,0,null,348,0,0,0,0,null,348,0,0,0,0,null,348,0,0,0,0,null,348,0,0,0,0]
[349,0,0,0,0,null,349,0,0,0,0,null,349,0,0,0,0,null,349,0,0,0,0,null,349,0,0,0,0,null,349,0,0,0,0,null,349,0,0,0,0,null,349,0,0,0,0,null,349,0,0,0,0,null,349,0,0,0,0,null,349,0,0,0,0,null,349,0,0,0,0]
[350,0,0,0,0,null,350,0,0,0,0,null,350,0,0,0,0,null,350,0,0,0,0,null,350,0,0,0,0,null,350,0,0,0,0,null,350,0,0,0,0,null,350,0,0,0,0,null,350,0,0,0,0,null,350,0,0,0,0,null,350,0,0,0,0,null,350,0,0,0,0]
[351,0,0,0,0,null,351,0,0,0,0,null,351,0,0,0,0,null,351,0,0,0,0,null,351,0,0,0,0,null,351,0,0,0,0,null,351,0,0,0,0,null,351,0,0,0,0,null,351,0,0,0,0,null,351,0,0,0,0,null,351,0,0,0,0,null,351,0,0,0,0]
[352,0,0,0,0,null,352,0,0,0,0,null,352,0,0,0,0,null,352,0,0,0,0,null,352,0,0,0,0,null,352,0,0,0,0,null,352,0,0,0,0,null,352,0,0,0,0,null,352,0,0,0,0,null,352,0,0,0,0,null,352,0,0,0,0,null,352,0,0,0,0]
[353,0,0,0,0,null,353,0,0,0,0,null,353,0,0,0,0,null,353,0,0,0,0,null,353,0,0,0,0,null,353,0,0,0,0,null,353,0,0,0,0,null,353,0,0,0,0,null,353,0,0,0,0,null,353,0,0,0,0,null,353,0,0,0,0,null,353,0,0,0,0]
[354,0,0,0,0,null,354,0,0,0,0,null,354,0,0,0,0,null,354,0,0,0,0,null,354,0,0,0,0,null,354,0,0,0,0,null,354,0,0,0,0,null,354,0,0,0,0,null,354,0,0,0,0,null,354,0,0,0,0,null,354,0,0,0,0,null,354,0,0,0,0]
[355,0,0,0,0,null,355,0,0,0,0,null,355,0,0,0,0,null,355,0,0,0,0,null,355,0,0,0,0,null,355,0,0,0,0,null,355,0,0,0,0,null,355,0,0,0,0,null,355,0,0,0,0,null,355,0,0,0,0,null,355,0,0,0,0,null,355,0,0,0,0]
[356,0,0,0,0,null,356,0,0,0,0,null,356,0,0,0,0,null,356,0,0,0,0,null,356,0,0,0,0,null,356,0,0,0,0,null,356,0,0,0,0,null,356,0,0,0,0,null,356,0,0,0,0,null,356,0,0,0,0,null,356,0,0,0,0,null,356,0,0,0,0]
[357,0,0,0,0,null,357,0,0,0,0,null,357,0,0,0,0,null,357,0,0,0,0,null,357,0,0,0,0,null,357,0,0,0,0,null,357,0,0,0,0,null,357,0,0,0,0,null,357,0,0,0,0,null,357,0,0,0,0,null,357,0,0,0,0,null,357,0,0,0,0]
[358,0,0,0,0,null,358,0,0,0,0,null,358,0,0,0,0,null,358,0,0,0,0,null,358,0,0,0,0,null,358,0,0,0,0,null,358,0,0,0,0,null,358,0,0,0,0,null,358,0,0,0,0,null,358,0,0,0,0,null,358,0,0,0,0,null,358,0,0,0,0]
[359,0,0,0,0,null,359,0,0,0,0,null,359,0,0,0,0,null,359,0,0,0,0,null,359,0,0,0,0,null,359,0,0,0,0,null,359,0,0,0,0,null,359,0,0,0,0,null,359,0,0,0,0,null,359,0,0,0,0,null,359,0,0,0,0,null,359,0,0,0,0]
[360,0,0,0,0,null,360,0,0,0,0,null,360,0,0,0,0,null,360,0,0,0,0,null,360,0,0,0,0,null,360,0,0,0,0,null,360,0,0,0,0,null,360,0,0,0,0,null,360,0,0,0,0,null,360,0,0,0,0,null,360,0,0,0,0,null,360,0,0,0,0]
[]
["TOTAL",null,{"$f":"SUM(C11:C130)","v":0},{"$f":"SUM(D11:D130)","v":0},null,null,"TOTAL",null,{"$f":"SUM(I11:I130)","v":0},{"$f":"SUM(J11:J130)","v":0},null,null,"TOTAL",null,{"$f":"SUM(O11:O130)","v":0},{"$f":"SUM(P11:P130)","v":0},null,null,"TOTAL",null,{"$f":"SUM(U11:U130)","v":0},{"$f":"SUM(V11:V130)","v":0},null,null,"TOTAL",null,{"$f":"SUM(AA11:AA130)","v":0},{"$f":"SUM(AB11:AB130)","v":0},null,null,"TOTAL",null,{"$f":"SUM(AG11:AG130)","v":0},{"$f":"SUM(AH11:AH130)","v":0},null,null,"TOTAL",null,{"$f":"SUM(AM11:AM130)","v":0},{"$f":"SUM(AN11:AN130)","v":0},null,null,"TOTAL",null,{"$f":"SUM(AS11:AS130)","v":0},{"$f":"SUM(AT11:AT130)","v":0},null,null,"TOTAL",null,{"$f":"SUM(AY11:AY130)","v":0},{"$f":"SUM(AZ11:AZ130)","v":0},null,null,"TOTAL",null,{"$f":"SUM(BE11:BE130)","v":0},{"$f":"SUM(BF11:BF130)","v":0},null,null,"TOTAL",null,{"$f":"SUM(BK11:BK130)","v":0},{"$f":"SUM(BL11:BL130)","v":0},null,null,"TOTAL",null,{"$f":"SUM(BQ11:BQ130)","v":0},{"$f":"SUM(BR11:BR130)","v":0}]